BEGIN:VCALENDAR
VERSION:2.0
PRODID:-//ortenaukultur.de//NONSGML kigkonsult.se iCalcreator 2.41.92//
CALSCALE:GREGORIAN
METHOD:PUBLISH
UID:39653063-3866-4763-b062-636466313466
X-WR-TIMEZONE:Europe/Berlin
X-LIC-LOCATION:Europe/Berlin
BEGIN:VEVENT
UID:588842-kulturportal@ortenaukultur.de
DTSTAMP:20260421T224622Z
DESCRIPTION:Kurzbeschreibung:\n Der Maibaum wird um 19 Uhr vor dem Alten Sc
 hulhaus aufgerichtet. Bei Grillwurst und Bier lässt sich beobachten\, wie 
 der Maibaum in Stellung gebracht wird.\n Ort:\n Bürgerhaus Schenkenzell\n 
 Schulstraße 2\, 77773 Schenkenzell\n Veranstalter:\n Halden-Hexen Schenken
 zell 1982 e. V\n Termin:\n Beginn: 30.04.2026\, 19:00 Uhr\n Ende: 30.04.20
 26\n Link:\n Zur Detailseite
DTSTART;TZID=Europe/Berlin:20260430T190000
DTEND;TZID=Europe/Berlin:20260430T220000
LOCATION:Bürgerhaus Schenkenzell\, Schulstraße 2\, 77773 Schenkenzell
SUMMARY:Maibaumstellen und Walpurgis-Hock\, Bürgerhaus Schenkenzell
X-ALT-DESC;FMTTYPE=text/html:<strong>Kurzbeschreibung:</strong><br/>Der Mai
 baum wird um 19 Uhr vor dem Alten Schulhaus aufgerichtet. Bei Grillwurst u
 nd Bier lässt sich beobachten\, wie der Maibaum in Stellung gebracht wird.
 <br /><strong>Ort:</strong><br/>Bürgerhaus Schenkenzell<br/>Schulstraße 2\
 , 77773 Schenkenzell<br /><strong>Veranstalter:</strong><br/>Halden-Hexen 
 Schenkenzell 1982 e. V<br /><strong>Termin:</strong><br/>Beginn: 30.04.202
 6\, 19:00 Uhr<br/>Ende: 30.04.2026<br /><strong>Link:</strong><br/><a href
 ='https://ortenaukultur.de/de/veranstaltungen/detail/veranstaltung/id/5888
 42-maibaumstellen-und-walpurgis-hock/?vt=1'>Zur Detailseite</a>
END:VEVENT
END:VCALENDAR
