BEGIN:VCALENDAR
VERSION:2.0
PRODID:-//ortenaukultur.de//NONSGML kigkonsult.se iCalcreator 2.41.92//
CALSCALE:GREGORIAN
METHOD:PUBLISH
UID:37333064-3533-4634-b331-343265666633
X-WR-TIMEZONE:Europe/Berlin
X-LIC-LOCATION:Europe/Berlin
BEGIN:VEVENT
UID:588872-kulturportal@ortenaukultur.de
DTSTAMP:20260421T184459Z
DESCRIPTION:Kurzbeschreibung:\n Kindermusical für Solisten\, Chor und Instr
 umentalensemble zum 'Jubiläum 175 Jahre Friedenskirche'\n Ort:\n Friedensk
 irche\n Hauptstraße - Marktplatz\, 77694 Kehl\n Veranstalter:\n Bezirkskan
 torat Kehl\n Termin:\n Beginn: 12.07.2026\n Ende: 12.07.2026\n Link:\n Zur
  Detailseite
DTSTART;TZID=Europe/Berlin:20260712T000000
DTEND;TZID=Europe/Berlin:20260712T030000
LOCATION:Friedenskirche\, Hauptstraße - Marktplatz\, 77694 Kehl
SUMMARY:Kinder-Musical\, Friedenskirche
X-ALT-DESC;FMTTYPE=text/html:<strong>Kurzbeschreibung:</strong><br/>Kinderm
 usical für Solisten\, Chor und Instrumentalensemble zum 'Jubiläum 175 Jahr
 e Friedenskirche'<br /><strong>Ort:</strong><br/>Friedenskirche<br/>Haupts
 traße - Marktplatz\, 77694 Kehl<br /><strong>Veranstalter:</strong><br/>Be
 zirkskantorat Kehl<br /><strong>Termin:</strong><br/>Beginn: 12.07.2026<br
 />Ende: 12.07.2026<br /><strong>Link:</strong><br/><a href='https://ortena
 ukultur.de/de/veranstaltungen/detail/veranstaltung/id/588872-kinder-musica
 l/?vt=1'>Zur Detailseite</a>
END:VEVENT
END:VCALENDAR
