BEGIN:VCALENDAR
VERSION:2.0
PRODID:-//ortenaukultur.de//NONSGML kigkonsult.se iCalcreator 2.41.92//
CALSCALE:GREGORIAN
METHOD:PUBLISH
UID:66653834-3265-4465-b635-633037333332
X-WR-TIMEZONE:Europe/Berlin
X-LIC-LOCATION:Europe/Berlin
BEGIN:VEVENT
UID:589084-kulturportal@ortenaukultur.de
DTSTAMP:20260422T192022Z
DESCRIPTION:Kurzbeschreibung:\n Der Lahrer Künstler und Bildhauer Kurt Hock
 enjos führt durch die aktuelle Ausstellung in der Städtischen Galerie Lahr
 .\n Ort:\n Städtische Galerie\, Altes Rathaus\n Kaiserstraße 1\, 77933 Lah
 r\n Veranstalter:\n LahrKultur\n Termin:\n Beginn: 21.05.2026\, 16:30 Uhr
 \n Ende: 21.05.2026\n Tickets:\n kostenfrei\n Link:\n Zur Detailseite
DTSTART;TZID=Europe/Berlin:20260521T163000
DTEND;TZID=Europe/Berlin:20260521T193000
LOCATION:Städtische Galerie\, Altes Rathaus\, Kaiserstraße 1\, 77933 Lahr
SUMMARY:Feierabendführung: Rainer Zimmermann\, Städtische Galerie\, Altes R
 athaus
X-ALT-DESC;FMTTYPE=text/html:<strong>Kurzbeschreibung:</strong><br/>Der Lah
 rer Künstler und Bildhauer Kurt Hockenjos führt durch die aktuelle Ausstel
 lung in der Städtischen Galerie Lahr.<br /><strong>Ort:</strong><br/>Städt
 ische Galerie\, Altes Rathaus<br/>Kaiserstraße 1\, 77933 Lahr<br /><strong
 >Veranstalter:</strong><br/>LahrKultur<br /><strong>Termin:</strong><br/>B
 eginn: 21.05.2026\, 16:30 Uhr<br/>Ende: 21.05.2026<br /><strong>Tickets: <
 /strong><br/>kostenfrei<br /><strong>Link:</strong><br/><a href='https://o
 rtenaukultur.de/de/veranstaltungen/detail/veranstaltung/id/589084-feierabe
 ndfuehrung-rainer-zimmermann/?vt=1'>Zur Detailseite</a>
END:VEVENT
END:VCALENDAR
