BEGIN:VCALENDAR
VERSION:2.0
PRODID:-//ortenaukultur.de//NONSGML kigkonsult.se iCalcreator 2.41.92//
CALSCALE:GREGORIAN
METHOD:PUBLISH
UID:64383465-6463-4830-b935-646231343935
X-WR-TIMEZONE:Europe/Berlin
X-LIC-LOCATION:Europe/Berlin
BEGIN:VEVENT
UID:589152-kulturportal@ortenaukultur.de
DTSTAMP:20260422T174845Z
DESCRIPTION:Kurzbeschreibung:\n Aus der Reihe Dort-Donnerstags in der Orten
 au\, die 'besondere' DUFT TOUR durch das Marktstädtchen Haslach\n Ort:\n A
 ltes Kapuzinerkloster\n Klosterstr. 1\, 77716 Haslach\n Veranstalter:\n St
 adt Haslach - Kultur und Marketing\n Termin:\n Beginn: 28.05.2026\, 18:00 
 Uhr\n Ende: 28.05.2026\n Tickets:\n Erwachsene: 12 €\n Link:\n Zur Details
 eite
DTSTART;TZID=Europe/Berlin:20260528T180000
DTEND;TZID=Europe/Berlin:20260528T210000
LOCATION:Altes Kapuzinerkloster\, Klosterstr. 1\, 77716 Haslach
SUMMARY:Die besondere Stadtführung: die Duft Tour durch ein 'duftes Städtch
 en'\, Altes Kapuzinerkloster
X-ALT-DESC;FMTTYPE=text/html:<strong>Kurzbeschreibung:</strong><br/>Aus der
  Reihe Dort-Donnerstags in der Ortenau\,\ndie 'besondere' DUFT TOUR durch 
 das Marktstädtchen Haslach<br /><strong>Ort:</strong><br/>Altes Kapuzinerk
 loster<br/>Klosterstr. 1\, 77716 Haslach<br /><strong>Veranstalter:</stron
 g><br/>Stadt Haslach - Kultur und Marketing<br /><strong>Termin:</strong><
 br/>Beginn: 28.05.2026\, 18:00 Uhr<br/>Ende: 28.05.2026<br /><strong>Ticke
 ts: </strong><br/>Erwachsene: 12 €<br /><strong>Link:</strong><br/><a href
 ='https://ortenaukultur.de/de/veranstaltungen/detail/veranstaltung/id/5891
 52-die-besondere-stadtfuehrung-die-duft-tour-durch-ein-duftes-staedtchen/?
 vt=1'>Zur Detailseite</a>
END:VEVENT
END:VCALENDAR
