BEGIN:VCALENDAR
VERSION:2.0
PRODID:-//ortenaukultur.de//NONSGML kigkonsult.se iCalcreator 2.41.92//
CALSCALE:GREGORIAN
METHOD:PUBLISH
UID:63393366-3863-4363-b133-323863333439
X-WR-TIMEZONE:Europe/Berlin
X-LIC-LOCATION:Europe/Berlin
BEGIN:VEVENT
UID:589250-kulturportal@ortenaukultur.de
DTSTAMP:20260422T220226Z
DESCRIPTION:Kurzbeschreibung:\n Lässige Sunset-Vibes\, Big Bottles und lege
 ndäre Sonnenuntergänge warten auf Euch!\n Ort:\n zum Heuberg\n Heubergstra
 ße\, 77955 Ettenheim\n Veranstalter:\n Weingut Weber\n Termin:\n Beginn: 1
 0.07.2026\, 18:00 Uhr\n Ende: 10.07.2026\n Link:\n Zur Detailseite
DTSTART;TZID=Europe/Berlin:20260710T180000
DTEND;TZID=Europe/Berlin:20260710T210000
LOCATION:zum Heuberg\, Heubergstraße\, 77955 Ettenheim
SUMMARY:SUNDOWNER DJ-Set\, zum Heuberg
X-ALT-DESC;FMTTYPE=text/html:<strong>Kurzbeschreibung:</strong><br/>Lässige
  Sunset-Vibes\, Big Bottles und legendäre Sonnenuntergänge warten auf Euch
 ! <br /><strong>Ort:</strong><br/>zum Heuberg<br/>Heubergstraße\, 77955 Et
 tenheim<br /><strong>Veranstalter:</strong><br/>Weingut Weber<br /><strong
 >Termin:</strong><br/>Beginn: 10.07.2026\, 18:00 Uhr<br/>Ende: 10.07.2026<
 br /><strong>Link:</strong><br/><a href='https://ortenaukultur.de/de/veran
 staltungen/detail/veranstaltung/id/589250-sundowner-dj-set/?vt=1'>Zur Deta
 ilseite</a>
END:VEVENT
END:VCALENDAR
