BEGIN:VCALENDAR
VERSION:2.0
PRODID:-//ortenaukultur.de//NONSGML kigkonsult.se iCalcreator 2.41.92//
CALSCALE:GREGORIAN
METHOD:PUBLISH
UID:61303838-3631-4361-a135-616532313131
X-WR-TIMEZONE:Europe/Berlin
X-LIC-LOCATION:Europe/Berlin
BEGIN:VEVENT
UID:589417-kulturportal@ortenaukultur.de
DTSTAMP:20260422T103346Z
DESCRIPTION:Kurzbeschreibung:\n Die Führung für Bierliebhaber mit Stadtführ
 erin Billy Sum-Herrmann findet in der Reihe DORT statt.\n Ort:\n Altes Kap
 uzinerkloster\n Klosterstr. 1\, 77716 Haslach\n Veranstalter:\n Stadt Hasl
 ach - Kultur und Marketing\n Termin:\n Beginn: 19.11.2026\, 18:00 Uhr\n En
 de: 19.11.2026\n Tickets:\n 20 €\n Link:\n Zur Detailseite
DTSTART;TZID=Europe/Berlin:20261119T180000
DTEND;TZID=Europe/Berlin:20261119T210000
LOCATION:Altes Kapuzinerkloster\, Klosterstr. 1\, 77716 Haslach
SUMMARY:Eine besondere Stadtführung: „Hopfen und Malz\, ab in den Hals“ - D
 ie Biertour durchs Städtle\, Altes Kapuzinerkloster
X-ALT-DESC;FMTTYPE=text/html:<strong>Kurzbeschreibung:</strong><br/>Die Füh
 rung für Bierliebhaber mit Stadtführerin Billy Sum-Herrmann findet in der 
 Reihe DORT statt.\n<br /><strong>Ort:</strong><br/>Altes Kapuzinerkloster<
 br/>Klosterstr. 1\, 77716 Haslach<br /><strong>Veranstalter:</strong><br/>
 Stadt Haslach - Kultur und Marketing<br /><strong>Termin:</strong><br/>Beg
 inn: 19.11.2026\, 18:00 Uhr<br/>Ende: 19.11.2026<br /><strong>Tickets: </s
 trong><br/>20 €<br /><strong>Link:</strong><br/><a href='https://ortenauku
 ltur.de/de/veranstaltungen/detail/veranstaltung/id/589417-eine-besondere-s
 tadtfuehrung-hopfen-und-malz-ab-in-den-hals-die-biertour-durchs-staedtle/?
 vt=1'>Zur Detailseite</a>
END:VEVENT
END:VCALENDAR
