BEGIN:VCALENDAR
VERSION:2.0
PRODID:-//ortenaukultur.de//NONSGML kigkonsult.se iCalcreator 2.41.92//
CALSCALE:GREGORIAN
METHOD:PUBLISH
UID:33646233-6632-4261-b032-363965393431
X-WR-TIMEZONE:Europe/Berlin
X-LIC-LOCATION:Europe/Berlin
BEGIN:VEVENT
UID:589523-kulturportal@ortenaukultur.de
DTSTAMP:20260421T210016Z
DESCRIPTION:Kurzbeschreibung:\n Es isch wie´s isch... Sie ist der neue Gehe
 imtipp wenn’s um Humor ausm Ländle geht.\n Ort:\n Haus am Alten Bantlehof
 \n Kapellenweg 3\, 77960 Seelbach - Wittelbach\n Veranstalter:\n Gemeinde 
 Seelbach\n Termin:\n Beginn: 09.05.2026\, 19:00 Uhr\n Ende: 09.05.2026\n T
 ickets:\n Ticketverkauf bei Reservix unter folgendem Link:\n https://gemei
 nde-seelbach.reservix.de/events\n Vorverkauf: 16\,60 €\n Abendkasse: 18\,8
 0 €\n Link:\n Zur Detailseite
DTSTART;TZID=Europe/Berlin:20260509T190000
DTEND;TZID=Europe/Berlin:20260509T220000
LOCATION:Haus am Alten Bantlehof\, Kapellenweg 3\, 77960 Seelbach - Wittelb
 ach
SUMMARY:Marianne Schätzle - Es isch wie´s isch\, Haus am Alten Bantlehof
X-ALT-DESC;FMTTYPE=text/html:<strong>Kurzbeschreibung:</strong><br/>Es isch
  wie´s isch... Sie ist der neue Geheimtipp wenn’s um Humor ausm Ländle geh
 t.<br /><strong>Ort:</strong><br/>Haus am Alten Bantlehof<br/>Kapellenweg 
 3\, 77960 Seelbach - Wittelbach<br /><strong>Veranstalter:</strong><br/>Ge
 meinde Seelbach<br /><strong>Termin:</strong><br/>Beginn: 09.05.2026\, 19:
 00 Uhr<br/>Ende: 09.05.2026<br /><strong>Tickets: </strong><br/><a  class=
 'wco_cb_subtitle_link'  id='ticketlink'  href='https://gemeinde-seelbach.r
 eservix.de/events' target='_blank' title='Vorverkauf Es isch... wie´s isch
 '>Ticketverkauf bei Reservix unter folgendem Link:</a><br/>https://gemeind
 e-seelbach.reservix.de/events<br/>Vorverkauf: 16\,60 €<br />\nAbendkasse: 
 18\,80 €<br /><strong>Link:</strong><br/><a href='https://ortenaukultur.de
 /de/veranstaltungen/detail/veranstaltung/id/589523-marianne-schaetzle-es-i
 sch-wie-s-isch/?vt=1'>Zur Detailseite</a>
END:VEVENT
END:VCALENDAR
