BEGIN:VCALENDAR
VERSION:2.0
PRODID:-//ortenaukultur.de//NONSGML kigkonsult.se iCalcreator 2.41.92//
CALSCALE:GREGORIAN
METHOD:PUBLISH
UID:39303536-3465-4461-a662-303235373362
X-WR-TIMEZONE:Europe/Berlin
X-LIC-LOCATION:Europe/Berlin
BEGIN:VEVENT
UID:589564-kulturportal@ortenaukultur.de
DTSTAMP:20260421T223229Z
DESCRIPTION:Kurzbeschreibung:\n Joanna Klakla verbindet Holzschnitt und Col
 lagen. Margaryta Miskevych malt mit Öl auf Leinwand.\n Ort:\n Kunstforum K
 ork\n Landstraße 20\, 77695 Kehl-Kork\n Veranstalter:\n Anita Frei-Krämer
 \n Termin:\n Beginn: 09.02.2026\n Ende: 09.02.2026\n Link:\n Zur Detailsei
 te
DTSTART;TZID=Europe/Berlin:20260209T000000
DTEND;TZID=Europe/Berlin:20260209T030000
LOCATION:Kunstforum Kork\, Landstraße 20\, 77695 Kehl-Kork
SUMMARY:Joanna Klakla und Margaryta Miskevych 'Zwei im Kaleidoskop'\, Kunst
 forum Kork
X-ALT-DESC;FMTTYPE=text/html:<strong>Kurzbeschreibung:</strong><br/>Joanna 
 Klakla verbindet Holzschnitt und Collagen. Margaryta Miskevych malt mit Öl
  auf Leinwand.<br /><strong>Ort:</strong><br/>Kunstforum Kork<br/>Landstra
 ße 20\, 77695 Kehl-Kork<br /><strong>Veranstalter:</strong><br/>Anita Frei
 -Krämer<br /><strong>Termin:</strong><br/>Beginn: 09.02.2026<br/>Ende: 09.
 02.2026<br /><strong>Link:</strong><br/><a href='https://ortenaukultur.de/
 de/veranstaltungen/detail/veranstaltung/id/589564-joanna-klakla-und-margar
 yta-miskevych-zwei-im-kaleidoskop/?vt=1'>Zur Detailseite</a>
END:VEVENT
END:VCALENDAR
