BEGIN:VCALENDAR
VERSION:2.0
PRODID:-//ortenaukultur.de//NONSGML kigkonsult.se iCalcreator 2.41.92//
CALSCALE:GREGORIAN
METHOD:PUBLISH
UID:38376363-3065-4136-b364-313331313331
X-WR-TIMEZONE:Europe/Berlin
X-LIC-LOCATION:Europe/Berlin
BEGIN:VEVENT
UID:590112-kulturportal@ortenaukultur.de
DTSTAMP:20260421T205103Z
DESCRIPTION:Kurzbeschreibung:\n Die Katholische Kirche begeht am Donnerstag
 \, 14.05.2026 die Feierlichkeiten zu 'Christi Himmelfahrt'\n Ort:\n Kloste
 rkirche Allerheiligen Wittichen\n Wittichen 138\, 77773 Schenkenzell\n Ver
 anstalter:\n Katholische Kirchengemeinde Kinzigtal\n Termin:\n Beginn: 14.
 05.2026\, 10:30 Uhr\n Ende: 14.05.2026\n Link:\n Zur Detailseite
DTSTART;TZID=Europe/Berlin:20260514T103000
DTEND;TZID=Europe/Berlin:20260514T133000
LOCATION:Klosterkirche Allerheiligen Wittichen\, Wittichen 138\, 77773 Sche
 nkenzell
SUMMARY:Christi Himmelfahrt\, Klosterkirche Allerheiligen Wittichen
X-ALT-DESC;FMTTYPE=text/html:<strong>Kurzbeschreibung:</strong><br/>Die Kat
 holische Kirche begeht am Donnerstag\, 14.05.2026 die Feierlichkeiten zu '
 Christi Himmelfahrt'<br /><strong>Ort:</strong><br/>Klosterkirche Allerhei
 ligen Wittichen<br/>Wittichen 138\, 77773 Schenkenzell<br /><strong>Verans
 talter:</strong><br/>Katholische Kirchengemeinde Kinzigtal<br /><strong>Te
 rmin:</strong><br/>Beginn: 14.05.2026\, 10:30 Uhr<br/>Ende: 14.05.2026<br 
 /><strong>Link:</strong><br/><a href='https://ortenaukultur.de/de/veransta
 ltungen/detail/veranstaltung/id/590112-christi-himmelfahrt/?vt=1'>Zur Deta
 ilseite</a>
END:VEVENT
END:VCALENDAR
