BEGIN:VCALENDAR
VERSION:2.0
PRODID:-//ortenaukultur.de//NONSGML kigkonsult.se iCalcreator 2.41.92//
CALSCALE:GREGORIAN
METHOD:PUBLISH
UID:33333536-3165-4661-b638-346334336535
X-WR-TIMEZONE:Europe/Berlin
X-LIC-LOCATION:Europe/Berlin
BEGIN:VEVENT
UID:590213-kulturportal@ortenaukultur.de
DTSTAMP:20260421T183435Z
DESCRIPTION:Kurzbeschreibung:\n Ein Kurs für Kinder von 5 - 10 Jahren in de
 r Naturkundeabteilung des Museums\n Ort:\n Museum im Ritterhaus\n Ritterst
 r. 10\, 77652 Offenburg\n Veranstalter:\n Museum im Ritterhaus Offenburg\n
  Termin:\n Beginn: 22.04.2026\, 15:00 Uhr\n Ende: 22.04.2026\n Link:\n Zur
  Detailseite
DTSTART;TZID=Europe/Berlin:20260422T150000
DTEND;TZID=Europe/Berlin:20260422T180000
LOCATION:Museum im Ritterhaus\, Ritterstr. 10\, 77652 Offenburg
SUMMARY:Geh` Du den Frühling suchen\, Museum im Ritterhaus
X-ALT-DESC;FMTTYPE=text/html:<strong>Kurzbeschreibung:</strong><br/>Ein Kur
 s für Kinder von 5 - 10 Jahren in der Naturkundeabteilung des Museums<br /
 ><strong>Ort:</strong><br/>Museum im Ritterhaus<br/>Ritterstr. 10\, 77652 
 Offenburg<br /><strong>Veranstalter:</strong><br/>Museum im Ritterhaus Off
 enburg<br /><strong>Termin:</strong><br/>Beginn: 22.04.2026\, 15:00 Uhr<br
 />Ende: 22.04.2026<br /><strong>Link:</strong><br/><a href='https://ortena
 ukultur.de/de/veranstaltungen/detail/veranstaltung/id/590213-geh-du-den-fr
 uehling-suchen/?vt=1'>Zur Detailseite</a>
END:VEVENT
END:VCALENDAR
