BEGIN:VCALENDAR
VERSION:2.0
PRODID:-//ortenaukultur.de//NONSGML kigkonsult.se iCalcreator 2.41.92//
CALSCALE:GREGORIAN
METHOD:PUBLISH
UID:61393266-3632-4761-b436-616162633438
X-WR-TIMEZONE:Europe/Berlin
X-LIC-LOCATION:Europe/Berlin
BEGIN:VEVENT
UID:590216-kulturportal@ortenaukultur.de
DTSTAMP:20260422T005332Z
DESCRIPTION:Kurzbeschreibung:\n Die Songs des US-Amerikaners Todd Thibaud b
 ewegen sich im Grenzbereich zwischen Rock\, Folk\, Country und Blues.\n Or
 t:\n Schlachthof - Kinder\, Jugend & Kultur\n Dreyspringstraße 16\, 77933 
 Lahr\n Veranstalter:\n lahrer rockwerkstatt e.v. + Schlachthof\n Termin:\n
  Beginn: 09.05.2026\, 20:30 Uhr\n Ende: 09.05.2026\n Tickets:\n Tickets on
 line kaufen\n https://eventfrog.de/de/p/konzert/pop-rock/todd-thibaud-band
 -7429216853761757168.html\n Vorverkauf: 16\,- / 12\,- (ermäßigt) / Abendka
 sse: 19\,- /16\,- (ermäßigt)\n Link:\n Zur Detailseite
DTSTART;TZID=Europe/Berlin:20260509T203000
DTEND;TZID=Europe/Berlin:20260509T233000
LOCATION:Schlachthof - Kinder\, Jugend & Kultur\, Dreyspringstraße 16\, 779
 33 Lahr
SUMMARY:Todd Thibaud Band (USA)\, Schlachthof - Kinder\, Jugend & Kultur
X-ALT-DESC;FMTTYPE=text/html:<strong>Kurzbeschreibung:</strong><br/>Die Son
 gs des US-Amerikaners Todd Thibaud bewegen sich im Grenzbereich zwischen R
 ock\, Folk\, Country und Blues.<br /><strong>Ort:</strong><br/>Schlachthof
  - Kinder\, Jugend & Kultur<br/>Dreyspringstraße 16\, 77933 Lahr<br /><str
 ong>Veranstalter:</strong><br/>lahrer rockwerkstatt e.v. + Schlachthof<br 
 /><strong>Termin:</strong><br/>Beginn: 09.05.2026\, 20:30 Uhr<br/>Ende: 09
 .05.2026<br /><strong>Tickets: </strong><br/><a  class='wco_cb_subtitle_li
 nk'  id='ticketlink'  href='https://eventfrog.de/de/p/konzert/pop-rock/tod
 d-thibaud-band-7429216853761757168.html' target='_blank' title='Öffnet ext
 ernen Link in einem neuen Fenster'>Tickets online kaufen</a><br/>https://e
 ventfrog.de/de/p/konzert/pop-rock/todd-thibaud-band-7429216853761757168.ht
 ml<br/>Vorverkauf: 16\,- / 12\,- (ermäßigt) / Abendkasse: 19\,- /16\,- (er
 mäßigt)<br /><strong>Link:</strong><br/><a href='https://ortenaukultur.de/
 de/veranstaltungen/detail/veranstaltung/id/590216-todd-thibaud-band-usa/?v
 t=1'>Zur Detailseite</a>
END:VEVENT
END:VCALENDAR
