BEGIN:VCALENDAR
VERSION:2.0
PRODID:-//ortenaukultur.de//NONSGML kigkonsult.se iCalcreator 2.41.92//
CALSCALE:GREGORIAN
METHOD:PUBLISH
UID:39373134-3462-4534-b163-633930306361
X-WR-TIMEZONE:Europe/Berlin
X-LIC-LOCATION:Europe/Berlin
BEGIN:VEVENT
UID:590255-kulturportal@ortenaukultur.de
DTSTAMP:20260421T205303Z
DESCRIPTION:Kurzbeschreibung:\n Kostenloser Vortrag im Stadtarchiv Offenbur
 g zur Langen Nacht der Kultur\n Ort:\n Stadtarchiv\n Ritterstr. 10\, 77652
  Offenburg\n Veranstalter:\n Museum im Ritterhaus Offenburg\n Termin:\n Be
 ginn: 24.04.2026\, 21:00 Uhr\n Ende: 25.04.2026\n Link:\n Zur Detailseite
DTSTART;TZID=Europe/Berlin:20260424T210000
DTEND;TZID=Europe/Berlin:20260425T000000
LOCATION:Stadtarchiv\, Ritterstr. 10\, 77652 Offenburg
SUMMARY:Der deutsche mittelalterliche Bucheinband\, Museum im Ritterhaus
X-ALT-DESC;FMTTYPE=text/html:<strong>Kurzbeschreibung:</strong><br/>Kostenl
 oser Vortrag im Stadtarchiv Offenburg zur Langen Nacht der Kultur<br /><st
 rong>Ort:</strong><br/>Stadtarchiv<br/>Ritterstr. 10\, 77652 Offenburg<br 
 /><strong>Veranstalter:</strong><br/>Museum im Ritterhaus Offenburg<br /><
 strong>Termin:</strong><br/>Beginn: 24.04.2026\, 21:00 Uhr<br/>Ende: 25.04
 .2026<br /><strong>Link:</strong><br/><a href='https://ortenaukultur.de/de
 /veranstaltungen/detail/veranstaltung/id/590255-der-deutsche-mittelalterli
 che-bucheinband/?vt=1'>Zur Detailseite</a>
END:VEVENT
END:VCALENDAR
