BEGIN:VCALENDAR
VERSION:2.0
PRODID:-//ortenaukultur.de//NONSGML kigkonsult.se iCalcreator 2.41.92//
CALSCALE:GREGORIAN
METHOD:PUBLISH
UID:66626364-6138-4135-a533-373137393662
X-WR-TIMEZONE:Europe/Berlin
X-LIC-LOCATION:Europe/Berlin
BEGIN:VEVENT
UID:590291-kulturportal@ortenaukultur.de
DTSTAMP:20260422T230600Z
DESCRIPTION:Kurzbeschreibung:\n Genuss trifft Erlebnis! Verkostungstour mit
  kreativem Fingerfood direkt am Baum oder Strauch. Anmeldung Martina Weber
 ing\, Tel. 07838 663\, Heidenbühl 2.\n Ort:\n Heidenbühlhof\n Heidenbühl 2
 \, 77787 Nordrach\n Veranstalter:\n Heidenbühlhof\n Termin:\n Beginn: 18.0
 7.2026\, 18:00 Uhr\n Ende: 18.07.2026\n Link:\n Zur Detailseite
DTSTART;TZID=Europe/Berlin:20260718T180000
DTEND;TZID=Europe/Berlin:20260718T210000
LOCATION:Heidenbühlhof\, Heidenbühl 2\, 77787 Nordrach
SUMMARY:Genusserlebnis auf dem Heidenbühlhof\, Heidenbühlhof
X-ALT-DESC;FMTTYPE=text/html:<strong>Kurzbeschreibung:</strong><br/>Genuss 
 trifft Erlebnis! Verkostungstour mit kreativem Fingerfood direkt am Baum o
 der Strauch. Anmeldung Martina Webering\, Tel. 07838 663\, Heidenbühl 2.<b
 r /><strong>Ort:</strong><br/>Heidenbühlhof<br/>Heidenbühl 2\, 77787 Nordr
 ach<br /><strong>Veranstalter:</strong><br/>Heidenbühlhof<br /><strong>Ter
 min:</strong><br/>Beginn: 18.07.2026\, 18:00 Uhr<br/>Ende: 18.07.2026<br /
 ><strong>Link:</strong><br/><a href='https://ortenaukultur.de/de/veranstal
 tungen/detail/veranstaltung/id/590291-genusserlebnis-auf-dem-heidenbuehlho
 f/?vt=1'>Zur Detailseite</a>
END:VEVENT
END:VCALENDAR
