BEGIN:VCALENDAR
VERSION:2.0
PRODID:-//ortenaukultur.de//NONSGML kigkonsult.se iCalcreator 2.41.92//
CALSCALE:GREGORIAN
METHOD:PUBLISH
UID:38623538-3539-4465-a534-336432373130
X-WR-TIMEZONE:Europe/Berlin
X-LIC-LOCATION:Europe/Berlin
BEGIN:VEVENT
UID:590294-kulturportal@ortenaukultur.de
DTSTAMP:20260423T003504Z
DESCRIPTION:Kurzbeschreibung:\n Genuss trifft Erlebnis! Verkostungstour mit
  kreativem Fingerfood direkt am Baum oder Strauch. Anmeldung Martina Weber
 ing\, Tel. 07838 663\, Heidenbühl 2.\n Ort:\n Heidenbühlhof\n Heidenbühl 2
 \, 77787 Nordrach\n Veranstalter:\n Heidenbühlhof\n Termin:\n Beginn: 29.0
 8.2026\, 18:00 Uhr\n Ende: 29.08.2026\n Link:\n Zur Detailseite
DTSTART;TZID=Europe/Berlin:20260829T180000
DTEND;TZID=Europe/Berlin:20260829T210000
LOCATION:Heidenbühlhof\, Heidenbühl 2\, 77787 Nordrach
SUMMARY:Genusserlebnis auf dem Heidenbühlhof\, Heidenbühlhof
X-ALT-DESC;FMTTYPE=text/html:<strong>Kurzbeschreibung:</strong><br/>Genuss 
 trifft Erlebnis! Verkostungstour mit kreativem Fingerfood direkt am Baum o
 der Strauch. Anmeldung Martina Webering\, Tel. 07838 663\, Heidenbühl 2.<b
 r /><strong>Ort:</strong><br/>Heidenbühlhof<br/>Heidenbühl 2\, 77787 Nordr
 ach<br /><strong>Veranstalter:</strong><br/>Heidenbühlhof<br /><strong>Ter
 min:</strong><br/>Beginn: 29.08.2026\, 18:00 Uhr<br/>Ende: 29.08.2026<br /
 ><strong>Link:</strong><br/><a href='https://ortenaukultur.de/de/veranstal
 tungen/detail/veranstaltung/id/590294-genusserlebnis-auf-dem-heidenbuehlho
 f/?vt=1'>Zur Detailseite</a>
END:VEVENT
END:VCALENDAR
