BEGIN:VCALENDAR
VERSION:2.0
PRODID:-//ortenaukultur.de//NONSGML kigkonsult.se iCalcreator 2.41.92//
CALSCALE:GREGORIAN
METHOD:PUBLISH
UID:31363939-6137-4534-b238-616531643239
X-WR-TIMEZONE:Europe/Berlin
X-LIC-LOCATION:Europe/Berlin
BEGIN:VEVENT
UID:590356-kulturportal@ortenaukultur.de
DTSTAMP:20260421T182253Z
DESCRIPTION:Kurzbeschreibung:\n Kreativworkshop für Kinder und Jugendliche 
 8 - 16 Jahre in den Ateliers der Kunstschule Offenburg\n Ort:\n KUNSTSCHUL
 E Offenburg\n Weingartenstr. 34b\, 77654 Offenburg\n Veranstalter:\n KUNST
 SCHULE Offenburg\n Termin:\n Beginn: 25.04.2026\, 13:00 Uhr\n Ende: 25.04.
 2026\n Link:\n Zur Detailseite
DTSTART;TZID=Europe/Berlin:20260425T130000
DTEND;TZID=Europe/Berlin:20260425T160000
LOCATION:KUNSTSCHULE Offenburg\, Weingartenstr. 34b\, 77654 Offenburg
SUMMARY:Mangas zeichnen\, KUNSTSCHULE Offenburg
X-ALT-DESC;FMTTYPE=text/html:<strong>Kurzbeschreibung:</strong><br/>Kreativ
 workshop für Kinder und Jugendliche 8 - 16 Jahre in den Ateliers der Kunst
 schule Offenburg<br /><strong>Ort:</strong><br/>KUNSTSCHULE Offenburg<br/>
 Weingartenstr. 34b\, 77654 Offenburg<br /><strong>Veranstalter:</strong><b
 r/>KUNSTSCHULE Offenburg<br /><strong>Termin:</strong><br/>Beginn: 25.04.2
 026\, 13:00 Uhr<br/>Ende: 25.04.2026<br /><strong>Link:</strong><br/><a hr
 ef='https://ortenaukultur.de/de/veranstaltungen/detail/veranstaltung/id/59
 0356-mangas-zeichnen/?vt=1'>Zur Detailseite</a>
END:VEVENT
END:VCALENDAR
