BEGIN:VCALENDAR
VERSION:2.0
PRODID:-//ortenaukultur.de//NONSGML kigkonsult.se iCalcreator 2.41.92//
CALSCALE:GREGORIAN
METHOD:PUBLISH
UID:31626631-6361-4538-b830-366263313965
X-WR-TIMEZONE:Europe/Berlin
X-LIC-LOCATION:Europe/Berlin
BEGIN:VEVENT
UID:590502-kulturportal@ortenaukultur.de
DTSTAMP:20260421T201601Z
DESCRIPTION:Kurzbeschreibung:\n Das heutige Mühlengebäude ist 2015 in tradi
 tioneller Bauweise errichtet worden\n Ort:\n Ihringer Ölstampfe\n Lohmühlw
 eg\, 77704 Oberkirch\n Veranstalter:\n Verein 'Oberkirch - Alte Stadt'\n T
 ermin:\n Beginn: 06.05.2026\, 15:00 Uhr\n Ende: 06.05.2026\n Link:\n Zur D
 etailseite
DTSTART;TZID=Europe/Berlin:20260506T150000
DTEND;TZID=Europe/Berlin:20260506T180000
LOCATION:Ihringer Ölstampfe\, Lohmühlweg\, 77704 Oberkirch
SUMMARY:Besichtigung der Ihringer Ölmühle\, Ihringer Ölstampfe
X-ALT-DESC;FMTTYPE=text/html:<strong>Kurzbeschreibung:</strong><br/>Das heu
 tige Mühlengebäude ist 2015 in traditioneller Bauweise errichtet worden<br
  /><strong>Ort:</strong><br/>Ihringer Ölstampfe<br/>Lohmühlweg\, 77704 Obe
 rkirch<br /><strong>Veranstalter:</strong><br/>Verein 'Oberkirch -  Alte S
 tadt'<br /><strong>Termin:</strong><br/>Beginn: 06.05.2026\, 15:00 Uhr<br/
 >Ende: 06.05.2026<br /><strong>Link:</strong><br/><a href='https://ortenau
 kultur.de/de/veranstaltungen/detail/veranstaltung/id/590502-besichtigung-d
 er-ihringer-oelmuehle/?vt=1'>Zur Detailseite</a>
END:VEVENT
END:VCALENDAR
