BEGIN:VCALENDAR
VERSION:2.0
PRODID:-//ortenaukultur.de//NONSGML kigkonsult.se iCalcreator 2.41.92//
CALSCALE:GREGORIAN
METHOD:PUBLISH
UID:39623133-6463-4433-b038-616237386664
X-WR-TIMEZONE:Europe/Berlin
X-LIC-LOCATION:Europe/Berlin
BEGIN:VEVENT
UID:590605-kulturportal@ortenaukultur.de
DTSTAMP:20260422T002829Z
DESCRIPTION:Kurzbeschreibung:\n Kurs für Kinder von 8 - 16 Jahren - Spannen
 des und Wissenswertes rund um das Thema Feuer\n Ort:\n Museum im Ritterhau
 s\n Ritterstr. 10\, 77652 Offenburg\n Veranstalter:\n Museum im Ritterhaus
  Offenburg\n Termin:\n Beginn: 17.06.2026\, 15:00 Uhr\n Ende: 17.06.2026\n
  Link:\n Zur Detailseite
DTSTART;TZID=Europe/Berlin:20260617T150000
DTEND;TZID=Europe/Berlin:20260617T180000
LOCATION:Museum im Ritterhaus\, Ritterstr. 10\, 77652 Offenburg
SUMMARY:Feuer und Flamme\, Museum im Ritterhaus
X-ALT-DESC;FMTTYPE=text/html:<strong>Kurzbeschreibung:</strong><br/>Kurs fü
 r Kinder von 8 - 16 Jahren - Spannendes und Wissenswertes rund um das Them
 a Feuer <br /><strong>Ort:</strong><br/>Museum im Ritterhaus<br/>Ritterstr
 . 10\, 77652 Offenburg<br /><strong>Veranstalter:</strong><br/>Museum im R
 itterhaus Offenburg<br /><strong>Termin:</strong><br/>Beginn: 17.06.2026\,
  15:00 Uhr<br/>Ende: 17.06.2026<br /><strong>Link:</strong><br/><a href='h
 ttps://ortenaukultur.de/de/veranstaltungen/detail/veranstaltung/id/590605-
 feuer-und-flamme/?vt=1'>Zur Detailseite</a>
END:VEVENT
END:VCALENDAR
