BEGIN:VCALENDAR
VERSION:2.0
PRODID:-//ortenaukultur.de//NONSGML kigkonsult.se iCalcreator 2.41.92//
CALSCALE:GREGORIAN
METHOD:PUBLISH
UID:63333030-6433-4533-b965-373237376138
X-WR-TIMEZONE:Europe/Berlin
X-LIC-LOCATION:Europe/Berlin
BEGIN:VEVENT
UID:590633-kulturportal@ortenaukultur.de
DTSTAMP:20260423T003534Z
DESCRIPTION:Kurzbeschreibung:\n Eine Ausstellung über religiöse Volkskunst 
 des 18. – 20. Jahrhunderts mit Objekten aus der Sammlung Ansgar Fütterers
 \n Ort:\n Museum im Ritterhaus\n Ritterstr. 10\, 77652 Offenburg\n Veranst
 alter:\n Museum im Ritterhaus Offenburg\n Termin:\n Beginn: 26.06.2026\, 1
 9:00 Uhr\n Ende: 26.06.2026\n Link:\n Zur Detailseite
DTSTART;TZID=Europe/Berlin:20260626T190000
DTEND;TZID=Europe/Berlin:20260626T220000
LOCATION:Museum im Ritterhaus\, Ritterstr. 10\, 77652 Offenburg
SUMMARY:Ausstellungseröffnung - Glaube: zuhause & unterwegs\, Museum im Rit
 terhaus
X-ALT-DESC;FMTTYPE=text/html:<strong>Kurzbeschreibung:</strong><br/>Eine Au
 sstellung über religiöse Volkskunst des 18. – 20. Jahrhunderts mit Objekte
 n aus der Sammlung Ansgar Fütterers<br /><strong>Ort:</strong><br/>Museum 
 im Ritterhaus<br/>Ritterstr. 10\, 77652 Offenburg<br /><strong>Veranstalte
 r:</strong><br/>Museum im Ritterhaus Offenburg<br /><strong>Termin:</stron
 g><br/>Beginn: 26.06.2026\, 19:00 Uhr<br/>Ende: 26.06.2026<br /><strong>Li
 nk:</strong><br/><a href='https://ortenaukultur.de/de/veranstaltungen/deta
 il/veranstaltung/id/590633-ausstellungseroeffnung-glaube-zuhause-unterwegs
 /?vt=1'>Zur Detailseite</a>
END:VEVENT
END:VCALENDAR
