BEGIN:VCALENDAR
VERSION:2.0
PRODID:-//ortenaukultur.de//NONSGML kigkonsult.se iCalcreator 2.41.92//
CALSCALE:GREGORIAN
METHOD:PUBLISH
UID:61653566-3832-4337-b638-393532343632
X-WR-TIMEZONE:Europe/Berlin
X-LIC-LOCATION:Europe/Berlin
BEGIN:VEVENT
UID:590639-kulturportal@ortenaukultur.de
DTSTAMP:20260422T180858Z
DESCRIPTION:Kurzbeschreibung:\n Lesewerkstatt für alte Handschriften - Work
 shop für Erwachsene im Stadtarchiv\n Ort:\n Stadtarchiv\n Ritterstr. 10\, 
 77652 Offenburg\n Veranstalter:\n Museum im Ritterhaus Offenburg\n Termin:
 \n Beginn: 28.05.2026\, 18:00 Uhr\n Ende: 28.05.2026\n Link:\n Zur Details
 eite
DTSTART;TZID=Europe/Berlin:20260528T180000
DTEND;TZID=Europe/Berlin:20260528T210000
LOCATION:Stadtarchiv\, Ritterstr. 10\, 77652 Offenburg
SUMMARY:Lesewerkstatt\, Museum im Ritterhaus
X-ALT-DESC;FMTTYPE=text/html:<strong>Kurzbeschreibung:</strong><br/>Lesewer
 kstatt für alte Handschriften - Workshop für Erwachsene im Stadtarchiv<br 
 /><strong>Ort:</strong><br/>Stadtarchiv<br/>Ritterstr. 10\, 77652 Offenbur
 g<br /><strong>Veranstalter:</strong><br/>Museum im Ritterhaus Offenburg<b
 r /><strong>Termin:</strong><br/>Beginn: 28.05.2026\, 18:00 Uhr<br/>Ende: 
 28.05.2026<br /><strong>Link:</strong><br/><a href='https://ortenaukultur.
 de/de/veranstaltungen/detail/veranstaltung/id/590639-lesewerkstatt/?vt=1'>
 Zur Detailseite</a>
END:VEVENT
END:VCALENDAR
