BEGIN:VCALENDAR
VERSION:2.0
PRODID:-//ortenaukultur.de//NONSGML kigkonsult.se iCalcreator 2.41.92//
CALSCALE:GREGORIAN
METHOD:PUBLISH
UID:63346433-3035-4438-a666-333663636532
X-WR-TIMEZONE:Europe/Berlin
X-LIC-LOCATION:Europe/Berlin
BEGIN:VEVENT
UID:590794-kulturportal@ortenaukultur.de
DTSTAMP:20260421T222016Z
DESCRIPTION:Kurzbeschreibung:\n Zauberhaftes Puppenspiel mit phantasievoll-
 schönen Figuren mit dem Titel 'Kasper und der Pirat der sieben Meere'\n Or
 t:\n Stadthalle\n Hauptstraße 1a\, 77716 Haslach\n Veranstalter:\n Stadt H
 aslach - Kultur und Marketing\n Termin:\n Beginn: 13.08.2026\, 15:00 Uhr\n
  Ende: 13.08.2026\n Tickets:\n 3\,50 € Eintritt\n Link:\n Zur Detailseite
DTSTART;TZID=Europe/Berlin:20260813T150000
DTEND;TZID=Europe/Berlin:20260813T180000
LOCATION:Stadthalle\, Hauptstraße 1a\, 77716 Haslach
SUMMARY:Die Freiburger Puppenbühne kommt!\, Stadthalle
X-ALT-DESC;FMTTYPE=text/html:<strong>Kurzbeschreibung:</strong><br/>Zauberh
 aftes Puppenspiel mit phantasievoll-schönen Figuren mit dem Titel 'Kasper 
 und der Pirat der sieben Meere'\n<br /><strong>Ort:</strong><br/>Stadthall
 e<br/>Hauptstraße 1a\, 77716 Haslach<br /><strong>Veranstalter:</strong><b
 r/>Stadt Haslach - Kultur und Marketing<br /><strong>Termin:</strong><br/>
 Beginn: 13.08.2026\, 15:00 Uhr<br/>Ende: 13.08.2026<br /><strong>Tickets: 
 </strong><br/>3\,50 € Eintritt <br /><strong>Link:</strong><br/><a href='h
 ttps://ortenaukultur.de/de/veranstaltungen/detail/veranstaltung/id/590794-
 die-freiburger-puppenbuehne-kommt/?vt=1'>Zur Detailseite</a>
END:VEVENT
END:VCALENDAR
