BEGIN:VCALENDAR
VERSION:2.0
PRODID:-//ortenaukultur.de//NONSGML kigkonsult.se iCalcreator 2.41.92//
CALSCALE:GREGORIAN
METHOD:PUBLISH
UID:61363035-3737-4039-b830-363365343761
X-WR-TIMEZONE:Europe/Berlin
X-LIC-LOCATION:Europe/Berlin
BEGIN:VEVENT
UID:590901-kulturportal@ortenaukultur.de
DTSTAMP:20260421T182158Z
DESCRIPTION:Kurzbeschreibung:\n Der fast 700 Jahre alte Storchen turm ist d
 as Wahrzeichen der Stadt Zell am Harmersbach.\n Ort:\n Storchenturm Museum
 \n Kanzleiplatz\, 77736 Zell am Harmersbach\n Veranstalter:\n Kultur und S
 tadtmarketing\n Termin:\n Beginn: 23.04.2026\, 14:00 Uhr\n Ende: 23.04.202
 6\n Link:\n Zur Detailseite
DTSTART;TZID=Europe/Berlin:20260423T140000
DTEND;TZID=Europe/Berlin:20260423T170000
LOCATION:Storchenturm Museum\, Kanzleiplatz\, 77736 Zell am Harmersbach
SUMMARY:Storchenturm-Museum\, Storchenturm Museum
X-ALT-DESC;FMTTYPE=text/html:<strong>Kurzbeschreibung:</strong><br/>Der fas
 t 700 Jahre alte Storchen­turm ist das Wahrzeichen der Stadt Zell am Harme
 rsbach.<br /><strong>Ort:</strong><br/>Storchenturm Museum<br/>Kanzleiplat
 z\, 77736 Zell am Harmersbach<br /><strong>Veranstalter:</strong><br/>Kult
 ur und Stadtmarketing<br /><strong>Termin:</strong><br/>Beginn: 23.04.2026
 \, 14:00 Uhr<br/>Ende: 23.04.2026<br /><strong>Link:</strong><br/><a href=
 'https://ortenaukultur.de/de/veranstaltungen/detail/veranstaltung/id/59090
 1-storchenturm-museum/?vt=1'>Zur Detailseite</a>
END:VEVENT
END:VCALENDAR
