BEGIN:VCALENDAR
VERSION:2.0
PRODID:-//ortenaukultur.de//NONSGML kigkonsult.se iCalcreator 2.41.92//
CALSCALE:GREGORIAN
METHOD:PUBLISH
UID:32316466-3436-4865-a434-376366333665
X-WR-TIMEZONE:Europe/Berlin
X-LIC-LOCATION:Europe/Berlin
BEGIN:VEVENT
UID:591051-kulturportal@ortenaukultur.de
DTSTAMP:20260422T103635Z
DESCRIPTION:Kurzbeschreibung:\n Einzigartig im Schwarzwald und ein ganz bes
 onderes Erlebnis für Groß und Klein: Gemeinsam mit dem Scout in die Lebens
 welt Wasser eintauchen.\n Ort:\n Treffpunkt: Parkplatz\, Naturbad Sulz\, L
 ahr-Sulz.\, Lahr-Sulz\n Veranstalter:\n Stadt Lahr Stadtmarketing\n Termin
 :\n Beginn: 06.08.2026\, 15:00 Uhr\n Ende: 06.08.2026\n Tickets:\n \n http
 s://erlebe.lahr.de/oeffentliche-fuehrungen-buchen.274465.htm#/experience/F
 IT00020072633687296\n 5\,00 € pro Person\n 55\,00 € pro Gruppe / max. 10 P
 ersonen\n 50\,00 € Schulklassen / max. 10 Personen\n individuell von Mai b
 is September buchbar\n \n Anmeldung erforderlich bis 1 Tag vorher\, 12 Uhr
 \n Stadtmarketing Lahr\, Tel: 07821/910-0128 (vorm.)\n oder E-Mail: stadtm
 arketing@lahr.de\n \n Link:\n Zur Detailseite
DTSTART;TZID=Europe/Berlin:20260806T150000
DTEND;TZID=Europe/Berlin:20260806T180000
LOCATION:Treffpunkt: Parkplatz\, Naturbad Sulz\, Lahr-Sulz.\, Lahr-Sulz
SUMMARY:Wasserpfad im Sulzbachtal - Mit dem Sulzbach-Scout auf Entdeckungst
 our\, Treffpunkt: Parkplatz\, Naturbad Sulz\, Lahr-Sulz.
X-ALT-DESC;FMTTYPE=text/html:<strong>Kurzbeschreibung:</strong><br/>Einziga
 rtig im Schwarzwald und ein ganz besonderes Erlebnis für Groß und Klein: G
 emeinsam mit dem Scout in die Lebenswelt Wasser eintauchen.<br /><strong>O
 rt:</strong><br/>Treffpunkt: Parkplatz\, Naturbad Sulz\, Lahr-Sulz.\, Lahr
 -Sulz<br /><strong>Veranstalter:</strong><br/>Stadt Lahr Stadtmarketing<br
  /><strong>Termin:</strong><br/>Beginn: 06.08.2026\, 15:00 Uhr<br/>Ende: 0
 6.08.2026<br /><strong>Tickets: </strong><br/><a  class='wco_cb_subtitle_l
 ink'  id='ticketlink'  href='https://erlebe.lahr.de/oeffentliche-fuehrunge
 n-buchen.274465.htm#/experience/FIT00020072633687296' target='_blank' titl
 e='Öffnet externen Link in einem neuen Fenster'></a><br/>https://erlebe.la
 hr.de/oeffentliche-fuehrungen-buchen.274465.htm#/experience/FIT00020072633
 687296<br/>  5\,00 € pro Person<br />\n55\,00 € pro Gruppe / max. 10 Perso
 nen<br />\n50\,00 € Schulklassen / max. 10 Personen<br />\nindividuell von
  Mai bis September buchbar<br />\n<br />\nAnmeldung erforderlich bis 1 Tag
  vorher\, 12 Uhr<br />\nStadtmarketing Lahr\, Tel: 07821/910-0128 (vorm.)<
 br />\noder E-Mail: stadtmarketing@lahr.de<br />\n<br /><strong>Link:</str
 ong><br/><a href='https://ortenaukultur.de/de/veranstaltungen/detail/veran
 staltung/id/591051-wasserpfad-im-sulzbachtal-mit-dem-sulzbach-scout-auf-en
 tdeckungstour/?vt=1'>Zur Detailseite</a>
END:VEVENT
END:VCALENDAR
