BEGIN:VCALENDAR
VERSION:2.0
PRODID:-//ortenaukultur.de//NONSGML kigkonsult.se iCalcreator 2.41.92//
CALSCALE:GREGORIAN
METHOD:PUBLISH
UID:63663235-3331-4363-b461-623034313664
X-WR-TIMEZONE:Europe/Berlin
X-LIC-LOCATION:Europe/Berlin
BEGIN:VEVENT
UID:591269-kulturportal@ortenaukultur.de
DTSTAMP:20260421T183350Z
DESCRIPTION:Kurzbeschreibung:\n Musical\, Pop und Schlager der Extraklasse!
  Erleben Sie: Songs von Bodo Wartke bis Sarah Connor\, von „Big Spender“ b
 is „Ave Maria“ von Lachen bis Gänsehaut..\n Ort:\n KiK - Kultur in der Kas
 erne Offenburg\, Offenburg\n Veranstalter:\n Camilla Kallfaß\n Termin:\n B
 eginn: 25.04.2026\, 20:00 Uhr\n Ende: 25.04.2026\n Tickets:\n Onlineticket
 s und Weltladen Offenburg und Drogerie Schutterwald\n https://eventfrog.de
 /de/p/musicals-shows/show/camilla-kallfass-show-7421874393096139185.html\n
  18 Euro Vorverkauf (bei Onlinekauf plus 63 cent)\n 21 Euro Abendkasse\n L
 ink:\n Zur Detailseite
DTSTART;TZID=Europe/Berlin:20260425T200000
DTEND;TZID=Europe/Berlin:20260425T230000
LOCATION:KiK - Kultur in der Kaserne Offenburg\, Offenburg
SUMMARY:Camilla Kallfass Show\, KiK - Kultur in der Kaserne Offenburg
X-ALT-DESC;FMTTYPE=text/html:<strong>Kurzbeschreibung:</strong><br/>Musical
 \, Pop und Schlager der Extraklasse! \nErleben Sie: Songs von Bodo Wartke 
 bis Sarah Connor\, von „Big Spender“ bis „Ave Maria“ von Lachen bis Gänseh
 aut..<br /><strong>Ort:</strong><br/>KiK - Kultur in der Kaserne Offenburg
 \, Offenburg<br /><strong>Veranstalter:</strong><br/>Camilla Kallfaß<br />
 <strong>Termin:</strong><br/>Beginn: 25.04.2026\, 20:00 Uhr<br/>Ende: 25.0
 4.2026<br /><strong>Tickets: </strong><br/><a  class='wco_cb_subtitle_link
 '  id='ticketlink'  href='https://eventfrog.de/de/p/musicals-shows/show/ca
 milla-kallfass-show-7421874393096139185.html' target='_blank' title='Onlin
 eTickets Öffnet externen Link in einem neuen Fenster'>Onlinetickets und We
 ltladen Offenburg und Drogerie Schutterwald</a><br/>https://eventfrog.de/d
 e/p/musicals-shows/show/camilla-kallfass-show-7421874393096139185.html<br/
 >18 Euro Vorverkauf (bei Onlinekauf plus 63 cent)<br />\n21 Euro Abendkass
 e<br /><strong>Link:</strong><br/><a href='https://ortenaukultur.de/de/ver
 anstaltungen/detail/veranstaltung/id/591269-camilla-kallfass-show/?vt=1'>Z
 ur Detailseite</a>
END:VEVENT
END:VCALENDAR
