BEGIN:VCALENDAR
VERSION:2.0
PRODID:-//ortenaukultur.de//NONSGML kigkonsult.se iCalcreator 2.41.92//
CALSCALE:GREGORIAN
METHOD:PUBLISH
UID:64373639-3961-4638-a561-363061646639
X-WR-TIMEZONE:Europe/Berlin
X-LIC-LOCATION:Europe/Berlin
BEGIN:VEVENT
UID:591326-kulturportal@ortenaukultur.de
DTSTAMP:20260421T224047Z
DESCRIPTION:Kurzbeschreibung:\n Weinstadt Offenburg - erleben und genießen.
  Die Offenburger Stadtgeschichte ist seit jeher eng mit dem Wein verbunden
 .\n Ort:\n Innenstadt\n Hauptstrasse\, 77654 Offenburg\n Veranstalter:\n S
 tadt Offenburg - Stadtmarketing\n Termin:\n Beginn: 25.04.2026\, 17:30 Uhr
 \n Ende: 25.04.2026\n Tickets:\n 17 Euro pro Person. Kein Ausschank an Per
 sonen unter 16 Jahren.\n Link:\n Zur Detailseite
DTSTART;TZID=Europe/Berlin:20260425T173000
DTEND;TZID=Europe/Berlin:20260425T203000
LOCATION:Innenstadt\, Hauptstrasse\, 77654 Offenburg
SUMMARY:Weinstadtführungen\, Offenburg
X-ALT-DESC;FMTTYPE=text/html:<strong>Kurzbeschreibung:</strong><br/>Weinsta
 dt Offenburg - erleben und genießen.  Die Offenburger Stadtgeschichte ist 
 seit jeher eng mit dem Wein verbunden.\n\n<br /><strong>Ort:</strong><br/>
 Innenstadt<br/>Hauptstrasse\, 77654 Offenburg<br /><strong>Veranstalter:</
 strong><br/>Stadt Offenburg - Stadtmarketing<br /><strong>Termin:</strong>
 <br/>Beginn: 25.04.2026\, 17:30 Uhr<br/>Ende: 25.04.2026<br /><strong>Tick
 ets: </strong><br/>17 Euro pro Person. Kein Ausschank an Personen unter 16
  Jahren.<br /><strong>Link:</strong><br/><a href='https://ortenaukultur.de
 /de/veranstaltungen/detail/veranstaltung/id/591326-weinstadtfuehrungen/?vt
 =1'>Zur Detailseite</a>
END:VEVENT
END:VCALENDAR
