BEGIN:VCALENDAR
VERSION:2.0
PRODID:-//ortenaukultur.de//NONSGML kigkonsult.se iCalcreator 2.41.92//
CALSCALE:GREGORIAN
METHOD:PUBLISH
UID:66653138-6231-4833-a139-363339363366
X-WR-TIMEZONE:Europe/Berlin
X-LIC-LOCATION:Europe/Berlin
BEGIN:VEVENT
UID:591336-kulturportal@ortenaukultur.de
DTSTAMP:20260421T174819Z
DESCRIPTION:Kurzbeschreibung:\n Besucher sind begeistert\, mit wie viel Lie
 be und Herzblut das einzigartige Museum mit seinen 3500 Ausstellungsstücke
 n eingerichtet wurde. Im Dorf 76.\n Ort:\n Puppen- und Spielzeugmuseum\n I
 m Dorf 76\, 77787 Nordrach\n Veranstalter:\n Touristen-Information Nordrac
 h\n Termin:\n Beginn: 26.04.2026\n Ende: 26.04.2026\n Link:\n Zur Detailse
 ite
DTSTART;TZID=Europe/Berlin:20260426T000000
DTEND;TZID=Europe/Berlin:20260426T030000
LOCATION:Puppen- und Spielzeugmuseum \, Im Dorf 76\, 77787 Nordrach
SUMMARY:Das Puppen- und Spielzeugmuseum hat geöffnet!\, Puppen- und Spielze
 ugmuseum
X-ALT-DESC;FMTTYPE=text/html:<strong>Kurzbeschreibung:</strong><br/>Besuche
 r sind begeistert\, mit wie viel Liebe und Herzblut das einzigartige Museu
 m mit seinen 3500 Ausstellungsstücken eingerichtet wurde. Im Dorf 76.<br /
 ><strong>Ort:</strong><br/>Puppen- und Spielzeugmuseum <br/>Im Dorf 76\, 7
 7787 Nordrach<br /><strong>Veranstalter:</strong><br/>Touristen-Informatio
 n Nordrach<br /><strong>Termin:</strong><br/>Beginn: 26.04.2026<br/>Ende: 
 26.04.2026<br /><strong>Link:</strong><br/><a href='https://ortenaukultur.
 de/de/veranstaltungen/detail/veranstaltung/id/591336-das-puppen-und-spielz
 eugmuseum-hat-geoeffnet/?vt=1'>Zur Detailseite</a>
END:VEVENT
END:VCALENDAR
