BEGIN:VCALENDAR
VERSION:2.0
PRODID:-//ortenaukultur.de//NONSGML kigkonsult.se iCalcreator 2.41.92//
CALSCALE:GREGORIAN
METHOD:PUBLISH
UID:66313039-6663-4739-b330-333966653265
X-WR-TIMEZONE:Europe/Berlin
X-LIC-LOCATION:Europe/Berlin
BEGIN:VEVENT
UID:591439-kulturportal@ortenaukultur.de
DTSTAMP:20260421T200552Z
DESCRIPTION:Kurzbeschreibung:\n Veranstaltung in der Reihe 'Kino im Theater
  der 2 Ufer' und 'Der Erde ein Fest'\n Ort:\n Alte Rösterei (Kehler Hafen)
 \n Ostrstraße 13\, 77694 Kehl\n Veranstalter:\n Theater der zwei Ufer.e.V.
 \n Termin:\n Beginn: 19.05.2026\n Ende: 19.05.2026\n Link:\n Zur Detailsei
 te
DTSTART;TZID=Europe/Berlin:20260519T000000
DTEND;TZID=Europe/Berlin:20260519T030000
LOCATION:Alte Rösterei (Kehler Hafen)\, Ostrstraße 13\, 77694 Kehl
SUMMARY:I am the river\, the river is me\, Alte Rösterei (Kehler Hafen)
X-ALT-DESC;FMTTYPE=text/html:<strong>Kurzbeschreibung:</strong><br/>Veranst
 altung in der Reihe 'Kino im Theater der 2 Ufer' und 'Der Erde ein Fest'<b
 r /><strong>Ort:</strong><br/>Alte Rösterei (Kehler Hafen)<br/>Ostrstraße 
 13\, 77694 Kehl<br /><strong>Veranstalter:</strong><br/>Theater der zwei U
 fer.e.V.<br /><strong>Termin:</strong><br/>Beginn: 19.05.2026<br/>Ende: 19
 .05.2026<br /><strong>Link:</strong><br/><a href='https://ortenaukultur.de
 /de/veranstaltungen/detail/veranstaltung/id/591439-i-am-the-river-the-rive
 r-is-me/?vt=1'>Zur Detailseite</a>
END:VEVENT
END:VCALENDAR
