BEGIN:VCALENDAR
VERSION:2.0
PRODID:-//ortenaukultur.de//NONSGML kigkonsult.se iCalcreator 2.41.92//
CALSCALE:GREGORIAN
METHOD:PUBLISH
UID:62373762-6239-4161-b663-316263666335
X-WR-TIMEZONE:Europe/Berlin
X-LIC-LOCATION:Europe/Berlin
BEGIN:VEVENT
UID:591441-kulturportal@ortenaukultur.de
DTSTAMP:20260421T203856Z
DESCRIPTION:Kurzbeschreibung:\n Komm\, lass uns träumen und die Welt entdec
 ken – ohne Gepäck\, aber mit viel Fantasie! Märchennachmittage für Kinder 
 und Erwachsene\n Ort:\n Alte Rösterei (Kehler Hafen)\n Ostrstraße 13\, 776
 94 Kehl\n Veranstalter:\n Theater der zwei Ufer.e.V.\n Termin:\n Beginn: 1
 9.07.2026\n Ende: 19.07.2026\n Link:\n Zur Detailseite
DTSTART;TZID=Europe/Berlin:20260719T000000
DTEND;TZID=Europe/Berlin:20260719T030000
LOCATION:Alte Rösterei (Kehler Hafen)\, Ostrstraße 13\, 77694 Kehl
SUMMARY:Abenteuer im Zauberwäldchen \, Alte Rösterei (Kehler Hafen)
X-ALT-DESC;FMTTYPE=text/html:<strong>Kurzbeschreibung:</strong><br/>Komm\, 
 lass uns träumen und die Welt entdecken – ohne Gepäck\, aber mit viel Fant
 asie! Märchennachmittage für Kinder und Erwachsene<br /><strong>Ort:</stro
 ng><br/>Alte Rösterei (Kehler Hafen)<br/>Ostrstraße 13\, 77694 Kehl<br /><
 strong>Veranstalter:</strong><br/>Theater der zwei Ufer.e.V.<br /><strong>
 Termin:</strong><br/>Beginn: 19.07.2026<br/>Ende: 19.07.2026<br /><strong>
 Link:</strong><br/><a href='https://ortenaukultur.de/de/veranstaltungen/de
 tail/veranstaltung/id/591441-abenteuer-im-zauberwaeldchen/?vt=1'>Zur Detai
 lseite</a>
END:VEVENT
END:VCALENDAR
