BEGIN:VCALENDAR
VERSION:2.0
PRODID:-//ortenaukultur.de//NONSGML kigkonsult.se iCalcreator 2.41.92//
CALSCALE:GREGORIAN
METHOD:PUBLISH
UID:66313632-3862-4461-b164-643162643264
X-WR-TIMEZONE:Europe/Berlin
X-LIC-LOCATION:Europe/Berlin
BEGIN:VEVENT
UID:591445-kulturportal@ortenaukultur.de
DTSTAMP:20260421T205425Z
DESCRIPTION:Kurzbeschreibung:\n Den unvergleichlichen Zauber der Sommersonn
 enwende gemeinsam zu feiern - dazu laden Katrin Bamberg und Ruth Dilles vo
 m Theater der 2 Ufer herzlich ein.\n Ort:\n Alte Rösterei (Kehler Hafen)\n
  Ostrstraße 13\, 77694 Kehl\n Veranstalter:\n Theater der zwei Ufer.e.V.\n
  Termin:\n Beginn: 21.06.2026\n Ende: 21.06.2026\n Link:\n Zur Detailseite
DTSTART;TZID=Europe/Berlin:20260621T000000
DTEND;TZID=Europe/Berlin:20260621T030000
LOCATION:Alte Rösterei (Kehler Hafen)\, Ostrstraße 13\, 77694 Kehl
SUMMARY:Mittsommernachtsfest-Sommersonnenwende - das heilige Fest der Licht
 kraft\, Alte Rösterei (Kehler Hafen)
X-ALT-DESC;FMTTYPE=text/html:<strong>Kurzbeschreibung:</strong><br/>Den unv
 ergleichlichen Zauber der Sommersonnenwende gemeinsam zu feiern - dazu lad
 en Katrin Bamberg und Ruth Dilles vom Theater der 2 Ufer herzlich ein.<br 
 /><strong>Ort:</strong><br/>Alte Rösterei (Kehler Hafen)<br/>Ostrstraße 13
 \, 77694 Kehl<br /><strong>Veranstalter:</strong><br/>Theater der zwei Ufe
 r.e.V.<br /><strong>Termin:</strong><br/>Beginn: 21.06.2026<br/>Ende: 21.0
 6.2026<br /><strong>Link:</strong><br/><a href='https://ortenaukultur.de/d
 e/veranstaltungen/detail/veranstaltung/id/591445-mittsommernachtsfest-somm
 ersonnenwende-das-heilige-fest-der-lichtkraft/?vt=1'>Zur Detailseite</a>
END:VEVENT
END:VCALENDAR
