BEGIN:VCALENDAR
VERSION:2.0
PRODID:-//ortenaukultur.de//NONSGML kigkonsult.se iCalcreator 2.41.92//
CALSCALE:GREGORIAN
METHOD:PUBLISH
UID:38623133-3165-4633-b166-383930363033
X-WR-TIMEZONE:Europe/Berlin
X-LIC-LOCATION:Europe/Berlin
BEGIN:VEVENT
UID:591573-kulturportal@ortenaukultur.de
DTSTAMP:20260422T065406Z
DESCRIPTION:Kurzbeschreibung:\n Lesung mit dem Schriftsteller Robert Menass
 e\, der sein neues Werk 'Die Lebensentscheidung' vorstellt\n Ort:\n Salmen
 \n Langestrasse 52\, 77652 Offenburg\n Veranstalter:\n Der Salmen\n Termin
 :\n Beginn: 08.05.2026\, 19:00 Uhr\n Ende: 08.05.2026\n Link:\n Zur Detail
 seite
DTSTART;TZID=Europe/Berlin:20260508T190000
DTEND;TZID=Europe/Berlin:20260508T220000
LOCATION:Salmen\, Langestrasse 52\, 77652 Offenburg
SUMMARY:Lesung/Diskussion: Die Lebensentscheidung. Mit Robert Menasse\, Sal
 men
X-ALT-DESC;FMTTYPE=text/html:<strong>Kurzbeschreibung:</strong><br/>Lesung 
 mit dem Schriftsteller Robert Menasse\, der sein neues Werk 'Die Lebensent
 scheidung' vorstellt<br /><strong>Ort:</strong><br/>Salmen<br/>Langestrass
 e 52\, 77652 Offenburg<br /><strong>Veranstalter:</strong><br/>Der Salmen<
 br /><strong>Termin:</strong><br/>Beginn: 08.05.2026\, 19:00 Uhr<br/>Ende:
  08.05.2026<br /><strong>Link:</strong><br/><a href='https://ortenaukultur
 .de/de/veranstaltungen/detail/veranstaltung/id/591573-lesung-diskussion-di
 e-lebensentscheidung-mit-robert-menasse/?vt=1'>Zur Detailseite</a>
END:VEVENT
END:VCALENDAR
