BEGIN:VCALENDAR
VERSION:2.0
PRODID:-//ortenaukultur.de//NONSGML kigkonsult.se iCalcreator 2.41.92//
CALSCALE:GREGORIAN
METHOD:PUBLISH
UID:31376662-3637-4738-b137-396564306631
X-WR-TIMEZONE:Europe/Berlin
X-LIC-LOCATION:Europe/Berlin
BEGIN:VEVENT
UID:591574-kulturportal@ortenaukultur.de
DTSTAMP:20260422T021537Z
DESCRIPTION:Kurzbeschreibung:\n Wir freuen uns auf die Lesung mit Daniel Si
 emens\, der sein neues Werk 'Der Fotograf Fred Stein' vorstellt\n Ort:\n S
 almen\n Langestrasse 52\, 77652 Offenburg\n Veranstalter:\n Der Salmen\n T
 ermin:\n Beginn: 25.06.2026\, 19:00 Uhr\n Ende: 25.06.2026\n Link:\n Zur D
 etailseite
DTSTART;TZID=Europe/Berlin:20260625T190000
DTEND;TZID=Europe/Berlin:20260625T220000
LOCATION:Salmen\, Langestrasse 52\, 77652 Offenburg
SUMMARY:Lesung: Der Fotograf Fred Stein. Mit Daniel Siemens\, Salmen
X-ALT-DESC;FMTTYPE=text/html:<strong>Kurzbeschreibung:</strong><br/>Wir fre
 uen uns auf die Lesung mit Daniel Siemens\, der sein neues Werk 'Der Fotog
 raf Fred Stein' vorstellt<br /><strong>Ort:</strong><br/>Salmen<br/>Langes
 trasse 52\, 77652 Offenburg<br /><strong>Veranstalter:</strong><br/>Der Sa
 lmen<br /><strong>Termin:</strong><br/>Beginn: 25.06.2026\, 19:00 Uhr<br/>
 Ende: 25.06.2026<br /><strong>Link:</strong><br/><a href='https://ortenauk
 ultur.de/de/veranstaltungen/detail/veranstaltung/id/591574-lesung-der-foto
 graf-fred-stein-mit-daniel-siemens/?vt=1'>Zur Detailseite</a>
END:VEVENT
END:VCALENDAR
