BEGIN:VCALENDAR
VERSION:2.0
PRODID:-//ortenaukultur.de//NONSGML kigkonsult.se iCalcreator 2.41.92//
CALSCALE:GREGORIAN
METHOD:PUBLISH
UID:30333132-6333-4930-a239-316433306238
X-WR-TIMEZONE:Europe/Berlin
X-LIC-LOCATION:Europe/Berlin
BEGIN:VEVENT
UID:591577-kulturportal@ortenaukultur.de
DTSTAMP:20260423T003650Z
DESCRIPTION:Kurzbeschreibung:\n Ein Workshop zum Mitdenken\, Mitreden und M
 itgestalten! Anlässlich des Tags des Grundgesetzes\n Ort:\n Salmen\n Lange
 strasse 52\, 77652 Offenburg\n Veranstalter:\n Der Salmen\n Termin:\n Begi
 nn: 23.05.2026\, 15:00 Uhr\n Ende: 23.05.2026\n Link:\n Zur Detailseite
DTSTART;TZID=Europe/Berlin:20260523T150000
DTEND;TZID=Europe/Berlin:20260523T180000
LOCATION:Salmen\, Langestrasse 52\, 77652 Offenburg
SUMMARY:Workshop: Von 13 Forderungen und 19 Grundrechten\, Salmen
X-ALT-DESC;FMTTYPE=text/html:<strong>Kurzbeschreibung:</strong><br/>Ein Wor
 kshop zum Mitdenken\, Mitreden und Mitgestalten! Anlässlich des Tags des G
 rundgesetzes<br /><strong>Ort:</strong><br/>Salmen<br/>Langestrasse 52\, 7
 7652 Offenburg<br /><strong>Veranstalter:</strong><br/>Der Salmen<br /><st
 rong>Termin:</strong><br/>Beginn: 23.05.2026\, 15:00 Uhr<br/>Ende: 23.05.2
 026<br /><strong>Link:</strong><br/><a href='https://ortenaukultur.de/de/v
 eranstaltungen/detail/veranstaltung/id/591577-workshop-von-13-forderungen-
 und-19-grundrechten/?vt=1'>Zur Detailseite</a>
END:VEVENT
END:VCALENDAR
