BEGIN:VCALENDAR
VERSION:2.0
PRODID:-//ortenaukultur.de//NONSGML kigkonsult.se iCalcreator 2.41.92//
CALSCALE:GREGORIAN
METHOD:PUBLISH
UID:37353736-3061-4637-b461-346339636139
X-WR-TIMEZONE:Europe/Berlin
X-LIC-LOCATION:Europe/Berlin
BEGIN:VEVENT
UID:593826-kulturportal@ortenaukultur.de
DTSTAMP:20260421T173159Z
DESCRIPTION:Kurzbeschreibung:\n Ausstellung: claroscuro Malerei von CELSO M
 ARTÍNEZ NAVES\n Ort:\n L´art pour Lahr e.V. Die Galerie Obertorstraße 4 77
 933 Lahr Hinter dem Alten Rathaus / Städtische Galerie\, Lahr\n Veranstalt
 er:\n L´ART POUR LAHR e.V. Die Galerie\n Termin:\n Beginn: 23.04.2026\n En
 de: 23.04.2026\n Tickets:\n Freier Eintritt\n Link:\n Zur Detailseite
DTSTART;TZID=Europe/Berlin:20260423T000000
DTEND;TZID=Europe/Berlin:20260423T030000
LOCATION:L´art pour Lahr e.V. Die Galerie Obertorstraße 4 77933 Lahr Hinter
  dem Alten Rathaus / Städtische Galerie\, Lahr
SUMMARY:Ausstellung:  claroscuro \, L´art pour Lahr e.V. Die Galerie | Ober
 torstraße 4 | 77933 Lahr | Hinter dem Alten Rathaus / Städtische Galerie
X-ALT-DESC;FMTTYPE=text/html:<strong>Kurzbeschreibung:</strong><br/>Ausstel
 lung:  claroscuro\n                                           \nMalerei vo
 n CELSO MARTÍNEZ NAVES\n\n\n\n<br /><strong>Ort:</strong><br/>L´art pour L
 ahr e.V. Die Galerie | Obertorstraße 4 | 77933 Lahr | Hinter dem Alten Rat
 haus / Städtische Galerie\, Lahr<br /><strong>Veranstalter:</strong><br/>L
 ´ART POUR LAHR e.V. Die Galerie<br /><strong>Termin:</strong><br/>Beginn: 
 23.04.2026<br/>Ende: 23.04.2026<br /><strong>Tickets: </strong><br/>Freier
  Eintritt<br /><strong>Link:</strong><br/><a href='https://ortenaukultur.d
 e/de/veranstaltungen/detail/veranstaltung/id/593826-ausstellung-claroscuro
 /?vt=1'>Zur Detailseite</a>
END:VEVENT
END:VCALENDAR
