BEGIN:VCALENDAR
VERSION:2.0
PRODID:-//ortenaukultur.de//NONSGML kigkonsult.se iCalcreator 2.41.92//
CALSCALE:GREGORIAN
METHOD:PUBLISH
UID:61396365-3561-4933-a233-366136396531
X-WR-TIMEZONE:Europe/Berlin
X-LIC-LOCATION:Europe/Berlin
BEGIN:VEVENT
UID:593880-kulturportal@ortenaukultur.de
DTSTAMP:20260422T105455Z
DESCRIPTION:Kurzbeschreibung:\n Der winterliche Poetry Slam kehrt auch 2026
  mit fünf hochkarätigen Slammerinnen und Slammern zurück: moderiert von Jo
 hannes Elster\, Glühwein & Deko inklusive.\n Ort:\n Das Kulturhaus.\n Am L
 äger 12\, 77694 Kehl\n Veranstalter:\n Kulturbüro Kehl\n Termin:\n Beginn:
  12.12.2026\, 20:00 Uhr\n Ende: 12.12.2026\n Tickets:\n Tickets kaufen\n h
 ttps://ortenaukultur.reservix.de/p/reservix/event/2547813\n Einzelplatz:\n
  bis 17\,50 € + Ermäßigung\n *Preise inkl. MwSt.\n \n Link:\n Zur Detailse
 ite
DTSTART;TZID=Europe/Berlin:20261212T200000
DTEND;TZID=Europe/Berlin:20261212T230000
LOCATION:Das Kulturhaus.\, Am Läger 12\, 77694 Kehl
SUMMARY:Winter Slam | DichtungsRing\, Das Kulturhaus.
X-ALT-DESC;FMTTYPE=text/html:<strong>Kurzbeschreibung:</strong><br/>Der win
 terliche Poetry Slam kehrt auch 2026 mit fünf hochkarätigen Slammerinnen u
 nd Slammern zurück: moderiert von Johannes Elster\, Glühwein & Deko inklus
 ive.<br /><strong>Ort:</strong><br/>Das Kulturhaus.<br/>Am Läger 12\, 7769
 4 Kehl<br /><strong>Veranstalter:</strong><br/>Kulturbüro Kehl<br /><stron
 g>Termin:</strong><br/>Beginn: 12.12.2026\, 20:00 Uhr<br/>Ende: 12.12.2026
 <br /><strong>Tickets: </strong><br/><a rel='asdf' href='https://ortenauku
 ltur.de/de/detail/tickets/id/593880-winter-slam-dichtungsring/?follow=http
 s%253A%252F%252Fortenaukultur.reservix.de%252Fp%252Freservix%252Fevent%252
 F2547813' target='_blank' title='' id='ticketlink'>Tickets kaufen</a><br/>
 https://ortenaukultur.reservix.de/p/reservix/event/2547813<br/><b>Einzelpl
 atz: </b><br />bis 17\,50 &euro\;&nbsp\; + Ermäßigung<br />*Preise inkl. M
 wSt.<br /><br /><strong>Link:</strong><br/><a href='https://ortenaukultur.
 de/de/veranstaltungen/detail/veranstaltung/id/593880-winter-slam-dichtungs
 ring/?vt=1'>Zur Detailseite</a>
END:VEVENT
END:VCALENDAR
