BEGIN:VCALENDAR
VERSION:2.0
PRODID:-//ortenaukultur.de//NONSGML kigkonsult.se iCalcreator 2.41.92//
CALSCALE:GREGORIAN
METHOD:PUBLISH
UID:64336430-3762-4832-a163-316530646532
X-WR-TIMEZONE:Europe/Berlin
X-LIC-LOCATION:Europe/Berlin
BEGIN:VEVENT
UID:593898-kulturportal@ortenaukultur.de
DTSTAMP:20260422T172155Z
DESCRIPTION:Kurzbeschreibung:\n Aktionstag rund um die berühmte Gutacher Bo
 llenhut-Tracht im Freilichtmuseum Vogtsbauernhof\n Ort:\n Schwarzwälder Fr
 eilichtmuseum Vogtsbauernhof\n Vogtsbauernhof\, 77793 Gutach (Schwarzwaldb
 ahn)\n Veranstalter:\n Schwarzwälder Freilichtmuseum Vogtsbauernhof\n Term
 in:\n Beginn: 31.05.2026\, 11:00 Uhr\n Ende: 31.05.2026\n Link:\n Zur Deta
 ilseite
DTSTART;TZID=Europe/Berlin:20260531T110000
DTEND;TZID=Europe/Berlin:20260531T140000
LOCATION:Schwarzwälder Freilichtmuseum Vogtsbauernhof\, Vogtsbauernhof\, 77
 793 Gutach (Schwarzwaldbahn)
SUMMARY:Begegnungen: Tausendundeine Tracht\, Schwarzwälder Freilichtmuseum 
 Vogtsbauernhof
X-ALT-DESC;FMTTYPE=text/html:<strong>Kurzbeschreibung:</strong><br/>Aktions
 tag rund um die berühmte Gutacher Bollenhut-Tracht im Freilichtmuseum Vogt
 sbauernhof<br /><strong>Ort:</strong><br/>Schwarzwälder Freilichtmuseum Vo
 gtsbauernhof<br/>Vogtsbauernhof\, 77793 Gutach (Schwarzwaldbahn)<br /><str
 ong>Veranstalter:</strong><br/>Schwarzwälder Freilichtmuseum Vogtsbauernho
 f<br /><strong>Termin:</strong><br/>Beginn: 31.05.2026\, 11:00 Uhr<br/>End
 e: 31.05.2026<br /><strong>Link:</strong><br/><a href='https://ortenaukult
 ur.de/de/veranstaltungen/detail/veranstaltung/id/593898-begegnungen-tausen
 dundeine-tracht/?vt=1'>Zur Detailseite</a>
END:VEVENT
END:VCALENDAR
