BEGIN:VCALENDAR
VERSION:2.0
PRODID:-//ortenaukultur.de//NONSGML kigkonsult.se iCalcreator 2.41.92//
CALSCALE:GREGORIAN
METHOD:PUBLISH
UID:34666261-6438-4134-b138-343962643432
X-WR-TIMEZONE:Europe/Berlin
X-LIC-LOCATION:Europe/Berlin
BEGIN:VEVENT
UID:593905-kulturportal@ortenaukultur.de
DTSTAMP:20260424T230909Z
DESCRIPTION:Kurzbeschreibung:\n Mitreißende Erzählungen und zauberhafte Ges
 chichten im Freilichtmuseum Vogtsbauernhof\n Ort:\n Schwarzwälder Freilich
 tmuseum Vogtsbauernhof\n Vogtsbauernhof\, 77793 Gutach (Schwarzwaldbahn)\n
  Veranstalter:\n Schwarzwälder Freilichtmuseum Vogtsbauernhof\n Termin:\n 
 Beginn: 12.07.2026\, 11:00 Uhr\n Ende: 12.07.2026\n Link:\n Zur Detailseit
 e
DTSTART;TZID=Europe/Berlin:20260712T110000
DTEND;TZID=Europe/Berlin:20260712T140000
LOCATION:Schwarzwälder Freilichtmuseum Vogtsbauernhof\, Vogtsbauernhof\, 77
 793 Gutach (Schwarzwaldbahn)
SUMMARY:Begegnungen: Inmitten von Märchen und Sagen\, Schwarzwälder Freilic
 htmuseum Vogtsbauernhof
X-ALT-DESC;FMTTYPE=text/html:<strong>Kurzbeschreibung:</strong><br/>Mitreiß
 ende Erzählungen und zauberhafte Geschichten im Freilichtmuseum Vogtsbauer
 nhof<br /><strong>Ort:</strong><br/>Schwarzwälder Freilichtmuseum Vogtsbau
 ernhof<br/>Vogtsbauernhof\, 77793 Gutach (Schwarzwaldbahn)<br /><strong>Ve
 ranstalter:</strong><br/>Schwarzwälder Freilichtmuseum Vogtsbauernhof<br /
 ><strong>Termin:</strong><br/>Beginn: 12.07.2026\, 11:00 Uhr<br/>Ende: 12.
 07.2026<br /><strong>Link:</strong><br/><a href='https://ortenaukultur.de/
 de/veranstaltungen/detail/veranstaltung/id/593905-begegnungen-inmitten-von
 -maerchen-und-sagen/?vt=1'>Zur Detailseite</a>
END:VEVENT
END:VCALENDAR
