BEGIN:VCALENDAR
VERSION:2.0
PRODID:-//ortenaukultur.de//NONSGML kigkonsult.se iCalcreator 2.41.92//
CALSCALE:GREGORIAN
METHOD:PUBLISH
UID:63383639-3463-4861-b737-313661636539
X-WR-TIMEZONE:Europe/Berlin
X-LIC-LOCATION:Europe/Berlin
BEGIN:VEVENT
UID:593908-kulturportal@ortenaukultur.de
DTSTAMP:20260425T164943Z
DESCRIPTION:Kurzbeschreibung:\n Weintag in Kooperation mit dem Weinparadies
  Ortenau im Freilichtmuseum Vogtsbauernhof\n Ort:\n Schwarzwälder Freilich
 tmuseum Vogtsbauernhof\n Vogtsbauernhof\, 77793 Gutach (Schwarzwaldbahn)\n
  Veranstalter:\n Schwarzwälder Freilichtmuseum Vogtsbauernhof\n Termin:\n 
 Beginn: 16.08.2026\, 11:00 Uhr\n Ende: 16.08.2026\n Link:\n Zur Detailseit
 e
DTSTART;TZID=Europe/Berlin:20260816T110000
DTEND;TZID=Europe/Berlin:20260816T140000
LOCATION:Schwarzwälder Freilichtmuseum Vogtsbauernhof\, Vogtsbauernhof\, 77
 793 Gutach (Schwarzwaldbahn)
SUMMARY:Begegnungen: Ein Hoch auf die Ortenau\, Schwarzwälder Freilichtmuse
 um Vogtsbauernhof
X-ALT-DESC;FMTTYPE=text/html:<strong>Kurzbeschreibung:</strong><br/>Weintag
  in Kooperation mit dem Weinparadies Ortenau im Freilichtmuseum Vogtsbauer
 nhof<br /><strong>Ort:</strong><br/>Schwarzwälder Freilichtmuseum Vogtsbau
 ernhof<br/>Vogtsbauernhof\, 77793 Gutach (Schwarzwaldbahn)<br /><strong>Ve
 ranstalter:</strong><br/>Schwarzwälder Freilichtmuseum Vogtsbauernhof<br /
 ><strong>Termin:</strong><br/>Beginn: 16.08.2026\, 11:00 Uhr<br/>Ende: 16.
 08.2026<br /><strong>Link:</strong><br/><a href='https://ortenaukultur.de/
 de/veranstaltungen/detail/veranstaltung/id/593908-begegnungen-ein-hoch-auf
 -die-ortenau/?vt=1'>Zur Detailseite</a>
END:VEVENT
END:VCALENDAR
