BEGIN:VCALENDAR
VERSION:2.0
PRODID:-//ortenaukultur.de//NONSGML kigkonsult.se iCalcreator 2.41.92//
CALSCALE:GREGORIAN
METHOD:PUBLISH
UID:30363435-6233-4966-b063-346337346439
X-WR-TIMEZONE:Europe/Berlin
X-LIC-LOCATION:Europe/Berlin
BEGIN:VEVENT
UID:593911-kulturportal@ortenaukultur.de
DTSTAMP:20260425T150959Z
DESCRIPTION:Kurzbeschreibung:\n Wir läuten die kalte Jahreszeit mit unserem
  Herbst- und Schlachtfest im Freilichtmuseum Vogtsbauernhof ein\n Ort:\n S
 chwarzwälder Freilichtmuseum Vogtsbauernhof\n Vogtsbauernhof\, 77793 Gutac
 h (Schwarzwaldbahn)\n Veranstalter:\n Schwarzwälder Freilichtmuseum Vogtsb
 auernhof\n Termin:\n Beginn: 25.10.2026\, 11:00 Uhr\n Ende: 25.10.2026\n L
 ink:\n Zur Detailseite
DTSTART;TZID=Europe/Berlin:20261025T110000
DTEND;TZID=Europe/Berlin:20261025T140000
LOCATION:Schwarzwälder Freilichtmuseum Vogtsbauernhof\, Vogtsbauernhof\, 77
 793 Gutach (Schwarzwaldbahn)
SUMMARY:Begegnungen: Einladung zum Herbstfest\, Schwarzwälder Freilichtmuse
 um Vogtsbauernhof
X-ALT-DESC;FMTTYPE=text/html:<strong>Kurzbeschreibung:</strong><br/>Wir läu
 ten die kalte Jahreszeit mit unserem Herbst- und Schlachtfest im Freilicht
 museum Vogtsbauernhof ein<br /><strong>Ort:</strong><br/>Schwarzwälder Fre
 ilichtmuseum Vogtsbauernhof<br/>Vogtsbauernhof\, 77793 Gutach (Schwarzwald
 bahn)<br /><strong>Veranstalter:</strong><br/>Schwarzwälder Freilichtmuseu
 m Vogtsbauernhof<br /><strong>Termin:</strong><br/>Beginn: 25.10.2026\, 11
 :00 Uhr<br/>Ende: 25.10.2026<br /><strong>Link:</strong><br/><a href='http
 s://ortenaukultur.de/de/veranstaltungen/detail/veranstaltung/id/593911-beg
 egnungen-einladung-zum-herbstfest/?vt=1'>Zur Detailseite</a>
END:VEVENT
END:VCALENDAR
