BEGIN:VCALENDAR
VERSION:2.0
PRODID:-//ortenaukultur.de//NONSGML kigkonsult.se iCalcreator 2.41.92//
CALSCALE:GREGORIAN
METHOD:PUBLISH
UID:35636663-6634-4361-b434-303635643135
X-WR-TIMEZONE:Europe/Berlin
X-LIC-LOCATION:Europe/Berlin
BEGIN:VEVENT
UID:594046-kulturportal@ortenaukultur.de
DTSTAMP:20260422T022131Z
DESCRIPTION:Kurzbeschreibung:\n WEIN.GARTEN-EVENT mit Flohmarkt\, DJ von de
 n BlackforestFinest DJ’s\, Tattoos von MarySinn Ink & Art\, Kinderbetreuun
 g von Kunterbunte Kinderzeit.\n Ort:\n Weingut Bieselin\n Im Pfaffenbach 6
 1\, 77955 Ettenheim\n Veranstalter:\n Weingut Bieselin\n Termin:\n Beginn:
  16.05.2026\, 15:00 Uhr\n Ende: 16.05.2026\n Link:\n Zur Detailseite
DTSTART;TZID=Europe/Berlin:20260516T150000
DTEND;TZID=Europe/Berlin:20260516T180000
LOCATION:Weingut Bieselin\, Im Pfaffenbach 61\, 77955 Ettenheim
SUMMARY:WEIN.GARTEN & fraeulein.fox Flohmarkt \, Weingut Bieselin
X-ALT-DESC;FMTTYPE=text/html:<strong>Kurzbeschreibung:</strong><br/>WEIN.GA
 RTEN-EVENT mit Flohmarkt\, DJ von den BlackforestFinest DJ’s\, Tattoos von
  MarySinn Ink & Art\, Kinderbetreuung von Kunterbunte Kinderzeit.<br /><st
 rong>Ort:</strong><br/>Weingut Bieselin<br/>Im Pfaffenbach 61\, 77955 Ette
 nheim<br /><strong>Veranstalter:</strong><br/>Weingut Bieselin<br /><stron
 g>Termin:</strong><br/>Beginn: 16.05.2026\, 15:00 Uhr<br/>Ende: 16.05.2026
 <br /><strong>Link:</strong><br/><a href='https://ortenaukultur.de/de/vera
 nstaltungen/detail/veranstaltung/id/594046-wein-garten-fraeulein-fox-flohm
 arkt/?vt=1'>Zur Detailseite</a>
END:VEVENT
END:VCALENDAR
