BEGIN:VCALENDAR
VERSION:2.0
PRODID:-//ortenaukultur.de//NONSGML kigkonsult.se iCalcreator 2.41.92//
CALSCALE:GREGORIAN
METHOD:PUBLISH
UID:37316265-3735-4436-a333-313131663639
X-WR-TIMEZONE:Europe/Berlin
X-LIC-LOCATION:Europe/Berlin
BEGIN:VEVENT
UID:594067-kulturportal@ortenaukultur.de
DTSTAMP:20260422T055653Z
DESCRIPTION:Kurzbeschreibung:\n Lagerleben des Freyen Söldnerhaufens 1525 b
 eim Effringer Schlössle im Freilichtmuseum Vogtsbauernhof\n Ort:\n Schwarz
 wälder Freilichtmuseum Vogtsbauernhof\n Vogtsbauernhof\, 77793 Gutach (Sch
 warzwaldbahn)\n Veranstalter:\n Schwarzwälder Freilichtmuseum Vogtsbauernh
 of\n Termin:\n Beginn: 04.06.2026\n Ende: 04.06.2026\n Tickets:\n \n https
 ://www.vogtsbauernhof.de/besuch/oeffnungszeiten-preise\n Link:\n Zur Detai
 lseite
DTSTART;TZID=Europe/Berlin:20260604T000000
DTEND;TZID=Europe/Berlin:20260604T030000
LOCATION:Schwarzwälder Freilichtmuseum Vogtsbauernhof\, Vogtsbauernhof\, 77
 793 Gutach (Schwarzwaldbahn)
SUMMARY:Begegnungen: Tore auf für den Freyen Söldnerhaufen\, Schwarzwälder 
 Freilichtmuseum Vogtsbauernhof
X-ALT-DESC;FMTTYPE=text/html:<strong>Kurzbeschreibung:</strong><br/>Lagerle
 ben des Freyen Söldnerhaufens 1525 beim Effringer Schlössle im Freilichtmu
 seum Vogtsbauernhof<br /><strong>Ort:</strong><br/>Schwarzwälder Freilicht
 museum Vogtsbauernhof<br/>Vogtsbauernhof\, 77793 Gutach (Schwarzwaldbahn)<
 br /><strong>Veranstalter:</strong><br/>Schwarzwälder Freilichtmuseum Vogt
 sbauernhof<br /><strong>Termin:</strong><br/>Beginn: 04.06.2026<br/>Ende: 
 04.06.2026<br /><strong>Tickets: </strong><br/><a  class='wco_cb_subtitle_
 link'  id='ticketlink'  href='https://www.vogtsbauernhof.de/besuch/oeffnun
 gszeiten-preise' target='_blank' title='Öffnet externen Link in einem neue
 n Fenster'></a><br/>https://www.vogtsbauernhof.de/besuch/oeffnungszeiten-p
 reise<br /><strong>Link:</strong><br/><a href='https://ortenaukultur.de/de
 /veranstaltungen/detail/veranstaltung/id/594067-begegnungen-tore-auf-fuer-
 den-freyen-soeldnerhaufen/?vt=1'>Zur Detailseite</a>
END:VEVENT
END:VCALENDAR
