BEGIN:VCALENDAR
VERSION:2.0
PRODID:-//ortenaukultur.de//NONSGML kigkonsult.se iCalcreator 2.41.92//
CALSCALE:GREGORIAN
METHOD:PUBLISH
UID:63313761-3935-4166-b865-346336363366
X-WR-TIMEZONE:Europe/Berlin
X-LIC-LOCATION:Europe/Berlin
BEGIN:VEVENT
UID:594202-kulturportal@ortenaukultur.de
DTSTAMP:20260421T231240Z
DESCRIPTION:Kurzbeschreibung:\n Die große Mai-Party im Schlachthof Lahr mit
  Musik\, Stimmung und guter Laune.\n Ort:\n Schlachthof - Kinder\, Jugend 
 & Kultur\n Dreyspringstraße 16\, 77933 Lahr\n Veranstalter:\n lahrer rockw
 erkstatt e.v. + Schlachthof\n Termin:\n Beginn: 30.04.2026\n Ende: 30.04.2
 026\n Tickets:\n \n https://eventfrog.de/de/p/partys/pop-rock/tanz-in-den-
 mai-2026-7447556345111268968.html\n 7\,- Vorverkauf / 10\,- Abendkasse\n L
 ink:\n Zur Detailseite
DTSTART;TZID=Europe/Berlin:20260430T000000
DTEND;TZID=Europe/Berlin:20260430T030000
LOCATION:Schlachthof - Kinder\, Jugend & Kultur\, Dreyspringstraße 16\, 779
 33 Lahr
SUMMARY:Tanz in den Mai\, Schlachthof - Kinder\, Jugend & Kultur
X-ALT-DESC;FMTTYPE=text/html:<strong>Kurzbeschreibung:</strong><br/>Die gro
 ße Mai-Party im Schlachthof Lahr mit Musik\, Stimmung und guter Laune.<br 
 /><strong>Ort:</strong><br/>Schlachthof - Kinder\, Jugend & Kultur<br/>Dre
 yspringstraße 16\, 77933 Lahr<br /><strong>Veranstalter:</strong><br/>lahr
 er rockwerkstatt e.v. + Schlachthof<br /><strong>Termin:</strong><br/>Begi
 nn: 30.04.2026<br/>Ende: 30.04.2026<br /><strong>Tickets: </strong><br/><a
   class='wco_cb_subtitle_link'  id='ticketlink'  href='https://eventfrog.d
 e/de/p/partys/pop-rock/tanz-in-den-mai-2026-7447556345111268968.html' targ
 et='_blank' title='Öffnet externen Link in einem neuen Fenster'></a><br/>h
 ttps://eventfrog.de/de/p/partys/pop-rock/tanz-in-den-mai-2026-744755634511
 1268968.html<br/>7\,- Vorverkauf / 10\,- Abendkasse<br /><strong>Link:</st
 rong><br/><a href='https://ortenaukultur.de/de/veranstaltungen/detail/vera
 nstaltung/id/594202-tanz-in-den-mai/?vt=1'>Zur Detailseite</a>
END:VEVENT
END:VCALENDAR
