BEGIN:VCALENDAR
VERSION:2.0
PRODID:-//ortenaukultur.de//NONSGML kigkonsult.se iCalcreator 2.41.92//
CALSCALE:GREGORIAN
METHOD:PUBLISH
UID:62623535-6132-4330-b964-353337346234
X-WR-TIMEZONE:Europe/Berlin
X-LIC-LOCATION:Europe/Berlin
BEGIN:VEVENT
UID:594204-kulturportal@ortenaukultur.de
DTSTAMP:20260421T200321Z
DESCRIPTION:Kurzbeschreibung:\n Der Mühlenmeister zeigt\, wie früher Mehl g
 emahlen wurde. Besichtigung und Vorführung finden bei jeder Witterung stat
 t\, 2 Euro p./P.\, Mühle am Ortseingang.\n Ort:\n Maile-Gießler-Mühle\n Wi
 nkelwald 1\, 77787 Nordrach\n Veranstalter:\n Touristen-Information Nordra
 ch\n Termin:\n Beginn: 29.04.2026\, 19:00 Uhr\n Ende: 29.04.2026\n Link:\n
  Zur Detailseite
DTSTART;TZID=Europe/Berlin:20260429T190000
DTEND;TZID=Europe/Berlin:20260429T220000
LOCATION:Maile-Gießler-Mühle\, Winkelwald 1\, 77787 Nordrach
SUMMARY:Historische 'Maile-Gießler-Mühle' live erleben! \, Maile-Gießler-Mü
 hle
X-ALT-DESC;FMTTYPE=text/html:<strong>Kurzbeschreibung:</strong><br/>Der Müh
 lenmeister zeigt\, wie früher Mehl gemahlen wurde. Besichtigung und Vorfüh
 rung finden bei jeder Witterung statt\, 2 Euro p./P.\, Mühle am Ortseingan
 g. <br /><strong>Ort:</strong><br/>Maile-Gießler-Mühle<br/>Winkelwald 1\, 
 77787 Nordrach<br /><strong>Veranstalter:</strong><br/>Touristen-Informati
 on Nordrach<br /><strong>Termin:</strong><br/>Beginn: 29.04.2026\, 19:00 U
 hr<br/>Ende: 29.04.2026<br /><strong>Link:</strong><br/><a href='https://o
 rtenaukultur.de/de/veranstaltungen/detail/veranstaltung/id/594204-historis
 che-maile-giessler-muehle-live-erleben/?vt=1'>Zur Detailseite</a>
END:VEVENT
END:VCALENDAR
