BEGIN:VCALENDAR
VERSION:2.0
PRODID:-//ortenaukultur.de//NONSGML kigkonsult.se iCalcreator 2.41.92//
CALSCALE:GREGORIAN
METHOD:PUBLISH
UID:30333865-6163-4164-b539-363864336136
X-WR-TIMEZONE:Europe/Berlin
X-LIC-LOCATION:Europe/Berlin
BEGIN:VEVENT
UID:594228-kulturportal@ortenaukultur.de
DTSTAMP:20260422T011902Z
DESCRIPTION:Kurzbeschreibung:\n Virtual Reality - die Zukunft des Gamings -
  könnt Ihr beim Gaming-Nachmittag in der Stadtbibliothek erleben.\n Ort:\n
  Stadtbibliothek Offenburg\n Weingartenstr. 32/34\, 77654 Offenburg\n Vera
 nstalter:\n Stadtbibliothek Offenburg\n Termin:\n Beginn: 10.08.2026\, 10:
 00 Uhr\n Ende: 10.08.2026\n Link:\n Zur Detailseite
DTSTART;TZID=Europe/Berlin:20260810T100000
DTEND;TZID=Europe/Berlin:20260810T130000
LOCATION:Stadtbibliothek Offenburg \, Weingartenstr. 32/34\, 77654 Offenbur
 g
SUMMARY:Ferienspass - VR & Gaming\, Stadtbibliothek Offenburg
X-ALT-DESC;FMTTYPE=text/html:<strong>Kurzbeschreibung:</strong><br/>Virtual
  Reality - die Zukunft des Gamings - könnt Ihr beim Gaming-Nachmittag in d
 er Stadtbibliothek erleben.<br /><strong>Ort:</strong><br/>Stadtbibliothek
  Offenburg <br/>Weingartenstr. 32/34\, 77654 Offenburg<br /><strong>Verans
 talter:</strong><br/>Stadtbibliothek Offenburg<br /><strong>Termin:</stron
 g><br/>Beginn: 10.08.2026\, 10:00 Uhr<br/>Ende: 10.08.2026<br /><strong>Li
 nk:</strong><br/><a href='https://ortenaukultur.de/de/veranstaltungen/deta
 il/veranstaltung/id/594228-ferienspass-vr-gaming/?vt=1'>Zur Detailseite</a
 >
END:VEVENT
END:VCALENDAR
