BEGIN:VCALENDAR
VERSION:2.0
PRODID:-//ortenaukultur.de//NONSGML kigkonsult.se iCalcreator 2.41.92//
CALSCALE:GREGORIAN
METHOD:PUBLISH
UID:66303364-3330-4463-b965-656461653061
X-WR-TIMEZONE:Europe/Berlin
X-LIC-LOCATION:Europe/Berlin
BEGIN:VEVENT
UID:595012-kulturportal@ortenaukultur.de
DTSTAMP:20260422T004742Z
DESCRIPTION:Kurzbeschreibung:\n Realität einer Filmproduktion - mal witzig 
 oder dramatisch. Oscar im Jahr 1973\n Ort:\n KiK - Kultur in der Kaserne\n
  Weingartenstraße 34 c\, 77654 Offenburg\n Veranstalter:\n KiK - Kultur in
  der Kaserne\n Termin:\n Beginn: 16.05.2026\, 20:00 Uhr\n Ende: 16.05.2026
 \n Link:\n Zur Detailseite
DTSTART;TZID=Europe/Berlin:20260516T200000
DTEND;TZID=Europe/Berlin:20260516T230000
LOCATION:KiK - Kultur in der Kaserne\, Weingartenstraße 34 c\, 77654 Offenb
 urg
SUMMARY:40 Jahre Kommunales Kino:  Die amerikanische Nacht\, KiK - Kultur i
 n der Kaserne
X-ALT-DESC;FMTTYPE=text/html:<strong>Kurzbeschreibung:</strong><br/>Realitä
 t einer Filmproduktion - mal witzig oder dramatisch. Oscar im Jahr 1973<br
  /><strong>Ort:</strong><br/>KiK - Kultur in der Kaserne<br/>Weingartenstr
 aße 34 c\, 77654 Offenburg<br /><strong>Veranstalter:</strong><br/>KiK - K
 ultur in der Kaserne<br /><strong>Termin:</strong><br/>Beginn: 16.05.2026\
 , 20:00 Uhr<br/>Ende: 16.05.2026<br /><strong>Link:</strong><br/><a href='
 https://ortenaukultur.de/de/veranstaltungen/detail/veranstaltung/id/595012
 -40-jahre-kommunales-kino-die-amerikanische-nacht/?vt=1'>Zur Detailseite</
 a>
END:VEVENT
END:VCALENDAR
