BEGIN:VCALENDAR
VERSION:2.0
PRODID:-//ortenaukultur.de//NONSGML kigkonsult.se iCalcreator 2.41.92//
CALSCALE:GREGORIAN
METHOD:PUBLISH
UID:35636535-3463-4732-b166-393464323261
X-WR-TIMEZONE:Europe/Berlin
X-LIC-LOCATION:Europe/Berlin
BEGIN:VEVENT
UID:595049-kulturportal@ortenaukultur.de
DTSTAMP:20260421T231456Z
DESCRIPTION:Kurzbeschreibung:\n Am Samstag 09.05. steht das nächste Konzert
  ins Haus der Musik in Haslach.\n Ort:\n Haus der Musik - Hofstetterstr. 3
  - 77716 Haslach\n Hofstetterstr. 3\, 77716 Haslach\n Veranstalter:\n HdM 
 Live\n Termin:\n Beginn: 09.05.2026\, 19:00 Uhr\n Ende: 09.05.2026\n Ticke
 ts:\n 15\,00 € Abendkasse\n 15\,00 €\n Link:\n Zur Detailseite
DTSTART;TZID=Europe/Berlin:20260509T190000
DTEND;TZID=Europe/Berlin:20260509T220000
LOCATION:Haus der Musik - Hofstetterstr. 3 - 77716 Haslach\, Hofstetterstr.
  3\, 77716 Haslach
SUMMARY:HdMLive - NENYA Trio Veranstaltung\, Haus der Musik
X-ALT-DESC;FMTTYPE=text/html:<strong>Kurzbeschreibung:</strong><br/>Am Sams
 tag 09.05. steht das nächste Konzert ins Haus der Musik in Haslach. <br />
 <strong>Ort:</strong><br/>Haus der Musik - Hofstetterstr. 3 - 77716 Haslac
 h<br/>Hofstetterstr. 3\, 77716 Haslach<br /><strong>Veranstalter:</strong>
 <br/>HdM Live<br /><strong>Termin:</strong><br/>Beginn: 09.05.2026\, 19:00
  Uhr<br/>Ende: 09.05.2026<br /><strong>Tickets: </strong><br/>15\,00 € Abe
 ndkasse<br/>15\,00 €<br /><strong>Link:</strong><br/><a href='https://orte
 naukultur.de/de/veranstaltungen/detail/veranstaltung/id/595049-hdmlive-nen
 ya-trio-veranstaltung/?vt=1'>Zur Detailseite</a>
END:VEVENT
END:VCALENDAR
