BEGIN:VCALENDAR
VERSION:2.0
PRODID:-//ortenaukultur.de//NONSGML kigkonsult.se iCalcreator 2.41.92//
CALSCALE:GREGORIAN
METHOD:PUBLISH
UID:33383133-3964-4562-b633-336564336435
X-WR-TIMEZONE:Europe/Berlin
X-LIC-LOCATION:Europe/Berlin
BEGIN:VEVENT
UID:595064-kulturportal@ortenaukultur.de
DTSTAMP:20260421T233915Z
DESCRIPTION:Kurzbeschreibung:\n Der Ortenaukreis nimmt dieses Jahr 2026 wie
 der an der Aktion Stadtradeln teil.\n Ort:\n Treffpunkt: Brunnen vor der k
 ath. Kirche Hausach\, Hausach\n Veranstalter:\n Billy Sum-Hermann\n Termin
 :\n Beginn: 01.05.2026\, 10:30 Uhr\n Ende: 01.05.2026\n Link:\n Zur Detail
 seite
DTSTART;TZID=Europe/Berlin:20260501T103000
DTEND;TZID=Europe/Berlin:20260501T133000
LOCATION:Treffpunkt: Brunnen vor der kath. Kirche Hausach\, Hausach
SUMMARY:Eröffnungstour des Stadtradelns 2026\, Treffpunkt: Brunnen vor der 
 kath. Kirche Hausach
X-ALT-DESC;FMTTYPE=text/html:<strong>Kurzbeschreibung:</strong><br/>Der Ort
 enaukreis nimmt dieses Jahr 2026 wieder an der Aktion Stadtradeln teil.\n
 \n<br /><strong>Ort:</strong><br/>Treffpunkt: Brunnen vor der kath. Kirche
  Hausach\, Hausach<br /><strong>Veranstalter:</strong><br/>Billy Sum-Herma
 nn<br /><strong>Termin:</strong><br/>Beginn: 01.05.2026\, 10:30 Uhr<br/>En
 de: 01.05.2026<br /><strong>Link:</strong><br/><a href='https://ortenaukul
 tur.de/de/veranstaltungen/detail/veranstaltung/id/595064-eroeffnungstour-d
 es-stadtradelns-2026/?vt=1'>Zur Detailseite</a>
END:VEVENT
END:VCALENDAR
