BEGIN:VCALENDAR
VERSION:2.0
PRODID:-//ortenaukultur.de//NONSGML kigkonsult.se iCalcreator 2.41.92//
CALSCALE:GREGORIAN
METHOD:PUBLISH
UID:36386161-6464-4263-a637-316233303635
X-WR-TIMEZONE:Europe/Berlin
X-LIC-LOCATION:Europe/Berlin
BEGIN:VEVENT
UID:595113-kulturportal@ortenaukultur.de
DTSTAMP:20260422T073123Z
DESCRIPTION:Kurzbeschreibung:\n Pascale Hugues\, die Bestsellerautorin von 
 Marthe und Mathilde\, folgt in ihrem neuen Buch den Spuren ihrer Mutter\, 
 die viel zu früh starb.\n Blitzinfo:\n NEU I Zusatzveranstaltung\n Ort:\n 
 Kulturforum Illenau\n Illenauer Allee 77\, 77855 Achern\n Veranstalter:\n 
 Stadt Achern - FG 3.3 Kultur\n Termin:\n Beginn: 13.05.2026\, 19:30 Uhr\n 
 Ende: 13.05.2026\n Tickets:\n Tickets kaufen\n https://ortenaukultur.reser
 vix.de/p/reservix/event/2554928\n 1. Kategorie:\n bis 15\,00 € + Ermäßigun
 g\n *Preise inkl. MwSt.\n \n Link:\n Zur Detailseite
DTSTART;TZID=Europe/Berlin:20260513T193000
DTEND;TZID=Europe/Berlin:20260513T223000
LOCATION:Kulturforum Illenau \, Illenauer Allee 77\, 77855 Achern
SUMMARY:Lesung und Gespräch mit Pascale Hugues\, Kulturforum Illenau
X-ALT-DESC;FMTTYPE=text/html:<strong>Kurzbeschreibung:</strong><br/>Pascale
  Hugues\, die Bestsellerautorin von Marthe und  Mathilde\, folgt in ihrem 
 neuen Buch den Spuren ihrer Mutter\, die viel zu früh starb. <br /><strong
 >Blitzinfo:</strong><br/>NEU I Zusatzveranstaltung<br /><strong>Ort:</stro
 ng><br/>Kulturforum Illenau  <br/>Illenauer Allee 77\, 77855 Achern<br /><
 strong>Veranstalter:</strong><br/>Stadt Achern - FG 3.3 Kultur<br /><stron
 g>Termin:</strong><br/>Beginn: 13.05.2026\, 19:30 Uhr<br/>Ende: 13.05.2026
 <br /><strong>Tickets: </strong><br/><a rel='asdf' href='https://ortenauku
 ltur.de/de/detail/tickets/id/595113-lesung-und-gespraech-mit-pascale-hugue
 s/?follow=https%253A%252F%252Fortenaukultur.reservix.de%252Fp%252Freservix
 %252Fevent%252F2554928' target='_blank' title='' id='ticketlink'>Tickets k
 aufen</a><br/>https://ortenaukultur.reservix.de/p/reservix/event/2554928<b
 r/><b>1. Kategorie: </b><br />bis 15\,00 &euro\;&nbsp\; + Ermäßigung<br />
 *Preise inkl. MwSt.<br /><br /><strong>Link:</strong><br/><a href='https:/
 /ortenaukultur.de/de/veranstaltungen/detail/veranstaltung/id/595113-lesung
 -und-gespraech-mit-pascale-hugues/?vt=1'>Zur Detailseite</a>
END:VEVENT
END:VCALENDAR
