BEGIN:VCALENDAR
VERSION:2.0
PRODID:-//ortenaukultur.de//NONSGML kigkonsult.se iCalcreator 2.41.92//
CALSCALE:GREGORIAN
METHOD:PUBLISH
UID:63613863-3134-4363-a564-316539313935
X-WR-TIMEZONE:Europe/Berlin
X-LIC-LOCATION:Europe/Berlin
BEGIN:VEVENT
UID:264567-kulturportal@ortenaukultur.de
DTSTAMP:20260421T221935Z
DESCRIPTION:Kurzbeschreibung:\n So macht Geschichte Spaß! Die Kinderführung
  bietet auf unterhaltsame und interaktive Weise Wissen rund um die Stadt L
 ahr und ihre Geschichte.\n Ort:\n Treffpunkt: Storchenturm\, Marktstraße 4
 5\, Lahr\n Veranstalter:\n Stadt Lahr Stadtmarketing\n Termin:\n Beginn: 0
 1.08.2026\, 15:00 Uhr\n Ende: 01.08.2026\n Tickets:\n \n https://erlebe.la
 hr.de/oeffentliche-fuehrungen-buchen.274465.htm#/experience/FIT00020072495
 164334\n \n \n \n Link:\n Zur Detailseite
DTSTART;TZID=Europe/Berlin:20260801T150000
DTEND;TZID=Europe/Berlin:20260801T180000
LOCATION:Treffpunkt: Storchenturm\, Marktstraße 45\, Lahr
SUMMARY:Kinderführung - Entdecke das Mittelalter\, Treffpunkt: Storchenturm
 \, Marktstraße 45
X-ALT-DESC;FMTTYPE=text/html:<strong>Kurzbeschreibung:</strong><br/>So mach
 t Geschichte Spaß! Die Kinderführung bietet auf unterhaltsame und interakt
 ive Weise Wissen rund um die Stadt Lahr und ihre Geschichte.\n<br /><stron
 g>Ort:</strong><br/>Treffpunkt: Storchenturm\, Marktstraße 45\, Lahr<br />
 <strong>Veranstalter:</strong><br/>Stadt Lahr Stadtmarketing<br /><strong>
 Termin:</strong><br/>Beginn: 01.08.2026\, 15:00 Uhr<br/>Ende: 01.08.2026<b
 r /><strong>Tickets: </strong><br/><a  class='wco_cb_subtitle_link'  id='t
 icketlink'  href='https://erlebe.lahr.de/oeffentliche-fuehrungen-buchen.27
 4465.htm#/experience/FIT00020072495164334' target='_blank' title='Öffnet e
 xternen Link in einem neuen Fenster'></a><br/>https://erlebe.lahr.de/oeffe
 ntliche-fuehrungen-buchen.274465.htm#/experience/FIT00020072495164334<br/>
 <br />\n<br />\n<br /><strong>Link:</strong><br/><a href='https://ortenauk
 ultur.de/de/veranstaltungen/detail/veranstaltung/id/264567-kinderfuehrung-
 entdecke-das-mittelalter/?vt=1'>Zur Detailseite</a>
END:VEVENT
END:VCALENDAR
