BEGIN:VCALENDAR
VERSION:2.0
PRODID:-//ortenaukultur.de//NONSGML kigkonsult.se iCalcreator 2.41.92//
CALSCALE:GREGORIAN
METHOD:PUBLISH
UID:35393966-6232-4330-a361-313561653633
X-WR-TIMEZONE:Europe/Berlin
X-LIC-LOCATION:Europe/Berlin
BEGIN:VEVENT
UID:408748-kulturportal@ortenaukultur.de
DTSTAMP:20260421T222307Z
DESCRIPTION:Kurzbeschreibung:\n Der Förderverein Freizeitanlage Hexenplatz 
 e.V. lädt ein.\n Ort:\n Freizeitanlage Frohnbach\n Frohnbach\, 77709 Oberw
 olfach\n Veranstalter:\n Hexengilde Oberwolfach\n Termin:\n Beginn: 01.05.
 2026\, 11:00 Uhr\n Ende: 01.05.2026\n Link:\n Zur Detailseite
DTSTART;TZID=Europe/Berlin:20260501T110000
DTEND;TZID=Europe/Berlin:20260501T140000
LOCATION:Freizeitanlage Frohnbach\, Frohnbach\, 77709 Oberwolfach
SUMMARY:Maihockede auf der Hexenhütte\, Freizeitanlage Frohnbach
X-ALT-DESC;FMTTYPE=text/html:<strong>Kurzbeschreibung:</strong><br/>Der För
 derverein Freizeitanlage Hexenplatz e.V. lädt ein.<br /><strong>Ort:</stro
 ng><br/>Freizeitanlage Frohnbach<br/>Frohnbach\, 77709 Oberwolfach<br /><s
 trong>Veranstalter:</strong><br/>Hexengilde Oberwolfach<br /><strong>Termi
 n:</strong><br/>Beginn: 01.05.2026\, 11:00 Uhr<br/>Ende: 01.05.2026<br /><
 strong>Link:</strong><br/><a href='https://ortenaukultur.de/de/veranstaltu
 ngen/detail/veranstaltung/id/408748-maihockede-auf-der-hexenhuette/?vt=1'>
 Zur Detailseite</a>
END:VEVENT
END:VCALENDAR
