BEGIN:VCALENDAR
VERSION:2.0
PRODID:-//ortenaukultur.de//NONSGML kigkonsult.se iCalcreator 2.41.92//
CALSCALE:GREGORIAN
METHOD:PUBLISH
UID:37666230-3966-4562-a439-343237363566
X-WR-TIMEZONE:Europe/Berlin
X-LIC-LOCATION:Europe/Berlin
BEGIN:VEVENT
UID:536610-kulturportal@ortenaukultur.de
DTSTAMP:20260423T062531Z
DESCRIPTION:Kurzbeschreibung:\n Weinstadt Offenburg - erleben und genießen.
  Die Offenburger Stadtgeschichte ist seit jeher eng mit dem Wein verbunden
 .\n Ort:\n Innenstadt\n Hauptstrasse\, 77654 Offenburg\n Veranstalter:\n S
 tadt Offenburg - Stadtmarketing\n Termin:\n Beginn: 10.10.2026\n Ende: 10.
 10.2026\n Tickets:\n 17 Euro pro Person. Kein Ausschank an Personen unter 
 16 Jahren.\n Link:\n Zur Detailseite
DTSTART;TZID=Europe/Berlin:20261010T000000
DTEND;TZID=Europe/Berlin:20261010T030000
LOCATION:Innenstadt\, Hauptstrasse\, 77654 Offenburg
SUMMARY:Weinstadtführungen\, Offenburg
X-ALT-DESC;FMTTYPE=text/html:<strong>Kurzbeschreibung:</strong><br/>Weinsta
 dt Offenburg - erleben und genießen.  Die Offenburger Stadtgeschichte ist 
 seit jeher eng mit dem Wein verbunden.\n\n<br /><strong>Ort:</strong><br/>
 Innenstadt<br/>Hauptstrasse\, 77654 Offenburg<br /><strong>Veranstalter:</
 strong><br/>Stadt Offenburg - Stadtmarketing<br /><strong>Termin:</strong>
 <br/>Beginn: 10.10.2026<br/>Ende: 10.10.2026<br /><strong>Tickets: </stron
 g><br/>17 Euro pro Person. Kein Ausschank an Personen unter 16 Jahren.<br 
 /><strong>Link:</strong><br/><a href='https://ortenaukultur.de/de/veransta
 ltungen/detail/veranstaltung/id/536610-weinstadtfuehrungen/?vt=1'>Zur Deta
 ilseite</a>
END:VEVENT
END:VCALENDAR
