BEGIN:VCALENDAR
VERSION:2.0
PRODID:-//ortenaukultur.de//NONSGML kigkonsult.se iCalcreator 2.41.92//
CALSCALE:GREGORIAN
METHOD:PUBLISH
UID:64376436-3863-4338-b835-306264333762
X-WR-TIMEZONE:Europe/Berlin
X-LIC-LOCATION:Europe/Berlin
BEGIN:VEVENT
UID:560893-kulturportal@ortenaukultur.de
DTSTAMP:20260421T211947Z
DESCRIPTION:Kurzbeschreibung:\n 'Geheimnisse im Schein der Taschenlampe' - 
 Geführte Entdeckungsreise durchs Storchenturm-Museum im Dunkeln\n Ort:\n S
 torchenturm Museum\n Kanzleiplatz\, 77736 Zell am Harmersbach\n Veranstalt
 er:\n Kultur und Stadtmarketing\n Termin:\n Beginn: 21.08.2026\, 20:30 Uhr
 \n Ende: 21.08.2026\n Tickets:\n Preis: 5 Euro je Person (Ki und Erw.)\, F
 ührung\, Museumseintritt im Preis enthalten. Anmeldung erforderlich!\n Lin
 k:\n Zur Detailseite
DTSTART;TZID=Europe/Berlin:20260821T203000
DTEND;TZID=Europe/Berlin:20260821T233000
LOCATION:Storchenturm Museum\, Kanzleiplatz\, 77736 Zell am Harmersbach
SUMMARY:Taschenlampenführung durch das Zeller Storchenturm-Museum\, Storche
 nturm Museum
X-ALT-DESC;FMTTYPE=text/html:<strong>Kurzbeschreibung:</strong><br/>'Geheim
 nisse im Schein der Taschenlampe' - Geführte Entdeckungsreise durchs Storc
 henturm-Museum im Dunkeln<br /><strong>Ort:</strong><br/>Storchenturm Muse
 um<br/>Kanzleiplatz\, 77736 Zell am Harmersbach<br /><strong>Veranstalter:
 </strong><br/>Kultur und Stadtmarketing<br /><strong>Termin:</strong><br/>
 Beginn: 21.08.2026\, 20:30 Uhr<br/>Ende: 21.08.2026<br /><strong>Tickets: 
 </strong><br/>Preis: 5 Euro je Person (Ki und Erw.)\, Führung\, Museumsein
 tritt im Preis enthalten. Anmeldung erforderlich!<br /><strong>Link:</stro
 ng><br/><a href='https://ortenaukultur.de/de/veranstaltungen/detail/verans
 taltung/id/560893-taschenlampenfuehrung-durch-das-zeller-storchenturm-muse
 um/?vt=1'>Zur Detailseite</a>
END:VEVENT
END:VCALENDAR
